BEGIN:VCALENDAR
PRODID:NingEventWidget-v1
VERSION:2.0
METHOD:PUBLISH
BEGIN:VTIMEZONE
TZID:Europe/Paris
X-LIC-LOCATION:Europe/Paris
BEGIN:DAYLIGHT
TZOFFSETFROM:+0100
TZOFFSETTO:+0200
TZNAME:CEST
DTSTART:19700329T020000
RRULE:FREQ=YEARLY;BYMONTH=3;BYDAY=-1SU
END:DAYLIGHT
BEGIN:STANDARD
TZOFFSETFROM:+0200
TZOFFSETTO:+0100
TZNAME:CET
DTSTART:19701025T030000
RRULE:FREQ=YEARLY;BYMONTH=10;BYDAY=-1SU
END:STANDARD
END:VTIMEZONE
BEGIN:VEVENT
UID:6339722:Event:137789
DTSTAMP:20260423T181920Z
SUMMARY:Ce que les territoires bretons apportent à l'Europe
DESCRIPTION:La Maison de l'Europe de Brest – Bretagne Ouest, en part
 enariat avec le Conseil Régional de Bretagne, la Caisse des Dépôts 
 et la Préfecture de Région, organise à Brest le jeudi 15 novembre 2
 012 de 10h à 17h, un colloque sur le thème: « Ce que les territoire
 s bretons apportent à l’Europe » au Centre de Keraudren.\nL’obje
 ctif de ce colloque est de mieux faire connaître les initiatives bret
 onnes qui ont un impact économique, industriel, scientifique ou socio
 culturel en Europe.\nCe colloque permettra de parler des stratégies d
 éveloppées par les organismes bretons afin de se doter d’une image
  européenne et être reconnus comme porteurs de cette dimension.\nPro
 gramme :10h-12h30 : 2 tables rondes \" Comment les organisations se do
 nnent-elles une dimension européenne sur les territoires bretons ? \"
 14h-16h : 3 ateliers sur le modèle social et culturel, la recherche e
 t l'innovation, les processus d'européanisation.\n\nPour en savoir pl
 us, rendez-vous sur http://www.breizhbook.com/events/ce-que-les-territ
 oires-bretons-apportent-l-europe
DTSTART;TZID=Europe/Paris:20121115T100000
DTEND;TZID=Europe/Paris:20121115T170000
CATEGORIES:colloque
LOCATION:Brest - Centre de Keraudren 110 rue Ernestine de Trémaudan
WEBSITE:
URL:
CONTACT:
ORGANIZER;CN="Maison De l'Europe Brest":http://www.breizhbook.com/prof
 ile/MaisonDelEuropeBrest
ATTACH;FMTTYPE="image/jpeg":http://storage.ning.com/topology/rest/1.0/
 file/get/3198327366?profile=original
ATTENDEE;ROLE=REQ-PARTICIPANT;PARTSTAT=ACCEPTED;RSVP=TRUE;CN="Maison D
 e l'Europe Brest":http://www.breizhbook.com/profile/MaisonDelEuropeBre
 st
END:VEVENT
END:VCALENDAR
