BEGIN:VCALENDAR
PRODID:NingEventWidget-v1
VERSION:2.0
METHOD:PUBLISH
BEGIN:VTIMEZONE
TZID:Europe/Paris
X-LIC-LOCATION:Europe/Paris
BEGIN:DAYLIGHT
TZOFFSETFROM:+0100
TZOFFSETTO:+0200
TZNAME:CEST
DTSTART:19700329T020000
RRULE:FREQ=YEARLY;BYMONTH=3;BYDAY=-1SU
END:DAYLIGHT
BEGIN:STANDARD
TZOFFSETFROM:+0200
TZOFFSETTO:+0100
TZNAME:CET
DTSTART:19701025T030000
RRULE:FREQ=YEARLY;BYMONTH=10;BYDAY=-1SU
END:STANDARD
END:VTIMEZONE
BEGIN:VEVENT
UID:6339722:Event:165523
DTSTAMP:20260423T163553Z
SUMMARY:CASTING ELECTION MODELE ELEGANCE BRETAGNE 2013
DESCRIPTION:Dans le cadre de la première élection Modèle Elegance B
 retagne 2013 en vue de l'élection de Modèle Elégance France 2014, u
 n casting est organisé afin de sélectionné les candidats qui partic
 iperons à l'élection régionale en fin d'année.\n\nFin des pré-ins
 criptions le 26 Mars 2013.\n\nToutes les informations sur la page face
 book officiel du comité:\nM-Elegance Bretagne\n\nPour en savoir plus,
  rendez-vous sur http://www.breizhbook.com/events/casting-election-mod
 ele-elegance-bretagne-2013
DTSTART;TZID=Europe/Paris:20130311T180000
DTEND;TZID=Europe/Paris:20130326T120000
CATEGORIES:concours, de, beauté
LOCATION:Rennes
WEBSITE:
URL:
CONTACT:
ORGANIZER;CN="M-Elegance Bretagne":http://www.breizhbook.com/profile/M
 EleganceBretagne
ATTACH;FMTTYPE="image/jpeg":http://storage.ning.com/topology/rest/1.0/
 file/get/3198347414?profile=original
ATTENDEE;ROLE=REQ-PARTICIPANT;PARTSTAT=ACCEPTED;RSVP=TRUE;CN="M-Elegan
 ce Bretagne":http://www.breizhbook.com/profile/MEleganceBretagne
END:VEVENT
END:VCALENDAR
