BEGIN:VCALENDAR
PRODID:NingEventWidget-v1
VERSION:2.0
METHOD:PUBLISH
BEGIN:VTIMEZONE
TZID:Europe/Paris
X-LIC-LOCATION:Europe/Paris
BEGIN:DAYLIGHT
TZOFFSETFROM:+0100
TZOFFSETTO:+0200
TZNAME:CEST
DTSTART:19700329T020000
RRULE:FREQ=YEARLY;BYMONTH=3;BYDAY=-1SU
END:DAYLIGHT
BEGIN:STANDARD
TZOFFSETFROM:+0200
TZOFFSETTO:+0100
TZNAME:CET
DTSTART:19701025T030000
RRULE:FREQ=YEARLY;BYMONTH=10;BYDAY=-1SU
END:STANDARD
END:VTIMEZONE
BEGIN:VEVENT
UID:6339722:Event:148414
DTSTAMP:20260423T164045Z
SUMMARY:Carte de Vœux 2013 interactive depuis Ploulmanach à 360°
DESCRIPTION:Bonjour,\npetit nouveau sur ce facebook breton, je vous en
 voie tous mes vœux via cette carte interactive 360° du magnifique si
 te de Ploumanach (pour web, smartphone, tablette): http://www.panorami
 x.fr/visite_virtuelle_360_france_bretagne_rennes/visite_360_ploumanach
 _4_vues/visite_virtuelle_360_ploumanach.htmlBien cordialement,Loïc ww
 w.panoramix.fr photo - visite virtuelle 360 - vidéo - objet 360 - mul
 timédia www.360rennes.com (Rennes à 360°) www.cotedemeraude.eu (la 
 côte d'émeraude à 360°)\n\nPour en savoir plus, rendez-vous sur ht
 tp://www.breizhbook.com/events/carte-de-v-ux-2013-interactive-depuis-p
 loulmanach-360
DTSTART;TZID=Europe/Paris:20130121T180000
DTEND;TZID=Europe/Paris:20130131T190000
CATEGORIES:carte, de, voeux, 2013
LOCATION:Bretagne
WEBSITE:http://www.panoramix.fr/visite_virtuelle_360_france_bretagne_r
 ennes/visite_360_ploumanach_4_vues/visite_virtuelle_360_ploumanach.htm
 l
URL:http://www.panoramix.fr/visite_virtuelle_360_france_bretagne_renne
 s/visite_360_ploumanach_4_vues/visite_virtuelle_360_ploumanach.html
CONTACT:
ORGANIZER:Loïc
ATTACH;FMTTYPE="image/jpeg":
ATTENDEE;ROLE=REQ-PARTICIPANT;PARTSTAT=ACCEPTED;RSVP=TRUE;CN=panoramix
 :http://www.breizhbook.com/profile/Lebreton77
END:VEVENT
END:VCALENDAR
