BEGIN:VCALENDAR
PRODID:NingEventWidget-v1
VERSION:2.0
METHOD:PUBLISH
BEGIN:VTIMEZONE
TZID:Europe/Paris
X-LIC-LOCATION:Europe/Paris
BEGIN:DAYLIGHT
TZOFFSETFROM:+0100
TZOFFSETTO:+0200
TZNAME:CEST
DTSTART:19700329T020000
RRULE:FREQ=YEARLY;BYMONTH=3;BYDAY=-1SU
END:DAYLIGHT
BEGIN:STANDARD
TZOFFSETFROM:+0200
TZOFFSETTO:+0100
TZNAME:CET
DTSTART:19701025T030000
RRULE:FREQ=YEARLY;BYMONTH=10;BYDAY=-1SU
END:STANDARD
END:VTIMEZONE
BEGIN:VEVENT
UID:6339722:Event:81968
DTSTAMP:20260423T192603Z
SUMMARY:Camille
DESCRIPTION:\nLa chanteuse Camille, singulière et charmeuse, vient de
  sortir un nouvel album. Elle passera à Brest le présenter.\n ILO VE
 YOU est un album acoustique car tous les instruments qui y figurent so
 nt des instruments acoustiques, vivants, qui vibrent par le souffle et
  l'élan des muscles : voix, cordes, tuba, cors, contrebasse, guitare,
  piano...\n\nTarifs : 20€* (tarif réduit), 23€ * (tarif plein), 2
 7€ (sur place)\n\n* + frais de loc\n\n\nPour en savoir plus, rendez-
 vous sur http://www.breizhbook.com/events/camille
DTSTART;TZID=Europe/Paris:20120421T203000
DTEND;TZID=Europe/Paris:20120421T230000
CATEGORIES:concert
LOCATION:La Carène
WEBSITE:http://www.quai-ouest.net
URL:http://www.quai-ouest.net
CONTACT:02 98 44 93 15
ORGANIZER;CN="Quai ouest musiques":http://www.breizhbook.com/profile/Q
 uaiouestmusiques
ATTACH;FMTTYPE="image/jpeg":
ATTENDEE;ROLE=REQ-PARTICIPANT;PARTSTAT=ACCEPTED;RSVP=TRUE;CN="Quai oue
 st musiques":http://www.breizhbook.com/profile/Quaiouestmusiques
END:VEVENT
END:VCALENDAR
