BEGIN:VCALENDAR
PRODID:NingEventWidget-v1
VERSION:2.0
METHOD:PUBLISH
BEGIN:VTIMEZONE
TZID:Europe/Paris
X-LIC-LOCATION:Europe/Paris
BEGIN:DAYLIGHT
TZOFFSETFROM:+0100
TZOFFSETTO:+0200
TZNAME:CEST
DTSTART:19700329T020000
RRULE:FREQ=YEARLY;BYMONTH=3;BYDAY=-1SU
END:DAYLIGHT
BEGIN:STANDARD
TZOFFSETFROM:+0200
TZOFFSETTO:+0100
TZNAME:CET
DTSTART:19701025T030000
RRULE:FREQ=YEARLY;BYMONTH=10;BYDAY=-1SU
END:STANDARD
END:VTIMEZONE
BEGIN:VEVENT
UID:6339722:Event:215536
DTSTAMP:20260423T175211Z
SUMMARY:CADEAU
DESCRIPTION:Avec le mot de passe \"BREIZHBOOK\" acollé à votre adres
 se, pour toute commande d'1 produit traitant = 1 Shampoing Nutre/Gel D
 ouche Offert. sur http://www.ameetsens.com\n\nPour en savoir plus, ren
 dez-vous sur http://www.breizhbook.com/events/cadeau
DTSTART;TZID=Europe/Paris:20131119T180000
DTEND;TZID=Europe/Paris:20131231T120000
CATEGORIES:produit, offert
LOCATION:QUIMPERLE 29300
WEBSITE:http://www.ameetsens.com
URL:http://www.ameetsens.com
CONTACT:0256463215
ORGANIZER;CN="CHAREF LEGAGNEUR Laurence":http://www.breizhbook.com/pro
 file/CHAREFLEGAGNEURLaurence
ATTACH;FMTTYPE="image/jpeg":
ATTENDEE;ROLE=REQ-PARTICIPANT;PARTSTAT=ACCEPTED;RSVP=TRUE;CN="CHAREF L
 EGAGNEUR Laurence":http://www.breizhbook.com/profile/CHAREFLEGAGNEURLa
 urence
END:VEVENT
END:VCALENDAR
