BEGIN:VCALENDAR
PRODID:NingEventWidget-v1
VERSION:2.0
METHOD:PUBLISH
BEGIN:VTIMEZONE
TZID:Europe/Paris
X-LIC-LOCATION:Europe/Paris
BEGIN:DAYLIGHT
TZOFFSETFROM:+0100
TZOFFSETTO:+0200
TZNAME:CEST
DTSTART:19700329T020000
RRULE:FREQ=YEARLY;BYMONTH=3;BYDAY=-1SU
END:DAYLIGHT
BEGIN:STANDARD
TZOFFSETFROM:+0200
TZOFFSETTO:+0100
TZNAME:CET
DTSTART:19701025T030000
RRULE:FREQ=YEARLY;BYMONTH=10;BYDAY=-1SU
END:STANDARD
END:VTIMEZONE
BEGIN:VEVENT
UID:6339722:Event:161238
DTSTAMP:20260423T164308Z
SUMMARY:Cadeau Offert sur le site ladieslingerieshop.fr
DESCRIPTION:Faites vous plaisir sur le site boutique en ligne ladiesl
 ingerieshop.fr lingerie sexy à petit prix modes femmes\npour toute pr
 emière commande un cadeau de bienvenue OFFERT* glissé dans votre col
 is\n\nPour en savoir plus, rendez-vous sur http://www.breizhbook.com/e
 vents/cadeau-offert-sur-le-site-ladieslingerieshop-fr
DTSTART;TZID=Europe/Paris:20130304T180000
DTEND;TZID=Europe/Paris:20130331T190000
CATEGORIES:cadeau, de, bienvenue, offert
LOCATION:France
WEBSITE:http://www.ladieslingerieshop.fr/
URL:http://www.ladieslingerieshop.fr/
CONTACT:
ORGANIZER;CN=ladieslingerieshop:http://www.breizhbook.com/profile/ladi
 eslingerieshop
ATTACH;FMTTYPE="image/jpeg":http://storage.ning.com/topology/rest/1.0/
 file/get/3198344966?profile=original
ATTENDEE;ROLE=REQ-PARTICIPANT;PARTSTAT=ACCEPTED;RSVP=TRUE;CN=ladieslin
 gerieshop:http://www.breizhbook.com/profile/ladieslingerieshop
END:VEVENT
END:VCALENDAR
