BEGIN:VCALENDAR
PRODID:NingEventWidget-v1
VERSION:2.0
METHOD:PUBLISH
BEGIN:VTIMEZONE
TZID:Europe/Paris
X-LIC-LOCATION:Europe/Paris
BEGIN:DAYLIGHT
TZOFFSETFROM:+0100
TZOFFSETTO:+0200
TZNAME:CEST
DTSTART:19700329T020000
RRULE:FREQ=YEARLY;BYMONTH=3;BYDAY=-1SU
END:DAYLIGHT
BEGIN:STANDARD
TZOFFSETFROM:+0200
TZOFFSETTO:+0100
TZNAME:CET
DTSTART:19701025T030000
RRULE:FREQ=YEARLY;BYMONTH=10;BYDAY=-1SU
END:STANDARD
END:VTIMEZONE
BEGIN:VEVENT
UID:6339722:Event:152710
DTSTAMP:20260423T181325Z
SUMMARY:CABARET ISIS
DESCRIPTION:Replongez dans les années 30, les «  Années Folles »
 , durant seulement deux soirées exceptionnelles.\nAmbiance « Agatha
  Christie ».\n \n \nUn meurtre a été commis, mais qui est l’as
 sassin ? A vous de faire votre enquête et de l’identifier…\n \n
 Le tout pendant qu'un véritable spectacle de cabaret suit son cours :
 \n    - Les danseuses de la troupe Magic Folies,\n    - Chansons
  interprétées par Ysa Raguénés et Laurianne Cadour ,\n    - Sho
 ws burlesques,\nles spectacles s’enchainent...\nPaillettes, Charlest
 on et Madison… Venez découvrir ce fabuleux spectacle.\n Seulement 
 sur réservation\nChaque spectateur est assis à une table de 6 à 8 p
 ersonnes d’où le nombre de places limitées.\n\nPour en savoir plus
 , rendez-vous sur http://www.breizhbook.com/events/cabaret-isis
DTSTART;TZID=Europe/Paris:20130426T200000
DTEND;TZID=Europe/Paris:20130427T200000
CATEGORIES:theatre, cabaret, comedie
LOCATION:Espace Culturel de Saint-Renan
WEBSITE:http://www.lesetoilesfelees.fr
URL:http://www.lesetoilesfelees.fr
CONTACT:0686899761
ORGANIZER;CN=Tanguy:http://www.breizhbook.com/profile/Tanguy417
ATTACH;FMTTYPE="image/jpeg":http://storage.ning.com/topology/rest/1.0/
 file/get/3198334382?profile=original
ATTENDEE;ROLE=REQ-PARTICIPANT;PARTSTAT=ACCEPTED;RSVP=TRUE;CN=Tanguy:ht
 tp://www.breizhbook.com/profile/Tanguy417
END:VEVENT
END:VCALENDAR
