BEGIN:VCALENDAR
PRODID:NingEventWidget-v1
VERSION:2.0
METHOD:PUBLISH
BEGIN:VTIMEZONE
TZID:Europe/Paris
X-LIC-LOCATION:Europe/Paris
BEGIN:DAYLIGHT
TZOFFSETFROM:+0100
TZOFFSETTO:+0200
TZNAME:CEST
DTSTART:19700329T020000
RRULE:FREQ=YEARLY;BYMONTH=3;BYDAY=-1SU
END:DAYLIGHT
BEGIN:STANDARD
TZOFFSETFROM:+0200
TZOFFSETTO:+0100
TZNAME:CET
DTSTART:19701025T030000
RRULE:FREQ=YEARLY;BYMONTH=10;BYDAY=-1SU
END:STANDARD
END:VTIMEZONE
BEGIN:VEVENT
UID:6339722:Event:150647
DTSTAMP:20260423T192602Z
SUMMARY:Broceliande le 2 mars 2013
DESCRIPTION:venez défendre votre patrimoine \n\nPour en savoir plus,
  rendez-vous sur http://www.breizhbook.com/events/broceliande-le-2-mar
 s-2013
DTSTART;TZID=Europe/Paris:20130302T000000
DTEND;TZID=Europe/Paris:20130302T235900
CATEGORIES:broceliande
LOCATION:Concoret
WEBSITE:
URL:
CONTACT:
ORGANIZER;CN="Gwenneg Courtet":http://www.breizhbook.com/profile/Gwenn
 egCourtet
ATTACH;FMTTYPE="image/jpeg":http://storage.ning.com/topology/rest/1.0/
 file/get/3198332807?profile=original
ATTENDEE;ROLE=REQ-PARTICIPANT;PARTSTAT=ACCEPTED;RSVP=TRUE;CN="Gwenneg 
 Courtet":http://www.breizhbook.com/profile/GwennegCourtet
END:VEVENT
END:VCALENDAR
