BEGIN:VCALENDAR
PRODID:NingEventWidget-v1
VERSION:2.0
METHOD:PUBLISH
BEGIN:VTIMEZONE
TZID:Europe/Paris
X-LIC-LOCATION:Europe/Paris
BEGIN:DAYLIGHT
TZOFFSETFROM:+0100
TZOFFSETTO:+0200
TZNAME:CEST
DTSTART:19700329T020000
RRULE:FREQ=YEARLY;BYMONTH=3;BYDAY=-1SU
END:DAYLIGHT
BEGIN:STANDARD
TZOFFSETFROM:+0200
TZOFFSETTO:+0100
TZNAME:CET
DTSTART:19701025T030000
RRULE:FREQ=YEARLY;BYMONTH=10;BYDAY=-1SU
END:STANDARD
END:VTIMEZONE
BEGIN:VEVENT
UID:6339722:Event:81965
DTSTAMP:20260423T192603Z
SUMMARY:Brigitte
DESCRIPTION:\nSuite au succès de leur concert en octobre 2011, Brigit
 te revient ! Ces 2 délurées reviennent distiller leur chansons rock.
 \n1° partie : ORNETTE -\nClavieriste pour Bashung, Ornette se fond da
 ns le trio éclectique Electric\n\nMop avant de se lancer en solo.\n\n
 Tarifs : 20€* (réduit), 23€ * (plein), 27€ (sur place)\n* + fra
 is de loc\n\n\n\nPour en savoir plus, rendez-vous sur http://www.breiz
 hbook.com/events/brigitte
DTSTART;TZID=Europe/Paris:20120414T203000
DTEND;TZID=Europe/Paris:20120414T230000
CATEGORIES:concert
LOCATION:La Carène
WEBSITE:http://www.quai-ouest.net
URL:http://www.quai-ouest.net
CONTACT:02 98 44 93 15
ORGANIZER;CN="Quai ouest musiques":http://www.breizhbook.com/profile/Q
 uaiouestmusiques
ATTACH;FMTTYPE="image/jpeg":
ATTENDEE;ROLE=REQ-PARTICIPANT;PARTSTAT=ACCEPTED;RSVP=TRUE;CN="Quai oue
 st musiques":http://www.breizhbook.com/profile/Quaiouestmusiques
END:VEVENT
END:VCALENDAR
