BEGIN:VCALENDAR
PRODID:NingEventWidget-v1
VERSION:2.0
METHOD:PUBLISH
BEGIN:VTIMEZONE
TZID:Europe/Paris
X-LIC-LOCATION:Europe/Paris
BEGIN:DAYLIGHT
TZOFFSETFROM:+0100
TZOFFSETTO:+0200
TZNAME:CEST
DTSTART:19700329T020000
RRULE:FREQ=YEARLY;BYMONTH=3;BYDAY=-1SU
END:DAYLIGHT
BEGIN:STANDARD
TZOFFSETFROM:+0200
TZOFFSETTO:+0100
TZNAME:CET
DTSTART:19701025T030000
RRULE:FREQ=YEARLY;BYMONTH=10;BYDAY=-1SU
END:STANDARD
END:VTIMEZONE
BEGIN:VEVENT
UID:6339722:Event:151877
DTSTAMP:20260423T161001Z
SUMMARY:Bigoud tour
DESCRIPTION:Défi pour le handicap, du 20 au 25 avril 2013 de Penmarch
  à Concarneau.\nVenez soutenir notre projet \"voile adaptée\" aux di
 fférentes escales. Penmarch, Le Guivinec, Lesconil, Ile Tudy, Concarn
 eau.\n\nPour en savoir plus, rendez-vous sur http://www.breizhbook.com
 /events/bigoud-tour
DTSTART;TZID=Europe/Paris:20130420T000000
DTEND;TZID=Europe/Paris:20130425T235900
CATEGORIES:promotion, de, la, section, voile, adaptée, à, penmarch
LOCATION:Kérity/Penmarch
WEBSITE:http://voile associative Penmarchaise
URL:http://voile associative Penmarchaise
CONTACT:06 26 05 11 02
ORGANIZER:Voile adatée
ATTACH;FMTTYPE="image/jpeg":
ATTENDEE;ROLE=REQ-PARTICIPANT;PARTSTAT=ACCEPTED;RSVP=TRUE;CN=bernard:h
 ttp://www.breizhbook.com/profile/bernard382
END:VEVENT
END:VCALENDAR
