BEGIN:VCALENDAR
PRODID:NingEventWidget-v1
VERSION:2.0
METHOD:PUBLISH
BEGIN:VTIMEZONE
TZID:Europe/Paris
X-LIC-LOCATION:Europe/Paris
BEGIN:DAYLIGHT
TZOFFSETFROM:+0100
TZOFFSETTO:+0200
TZNAME:CEST
DTSTART:19700329T020000
RRULE:FREQ=YEARLY;BYMONTH=3;BYDAY=-1SU
END:DAYLIGHT
BEGIN:STANDARD
TZOFFSETFROM:+0200
TZOFFSETTO:+0100
TZNAME:CET
DTSTART:19701025T030000
RRULE:FREQ=YEARLY;BYMONTH=10;BYDAY=-1SU
END:STANDARD
END:VTIMEZONE
BEGIN:VEVENT
UID:6339722:Event:150633
DTSTAMP:20260423T181458Z
SUMMARY:Bienvenue chez les Chypriotes
DESCRIPTION:Dans le cadre de son activitÃ© Â«Â Bienvenue chez les Chyp
 riotesÂ Â», la Maison de lâ€™Europe de Brest, en collaboration avec lâ
 €™Office de Tourisme de Chypre, propose une exposition de photographie
 s du 18 fÃ©vrier au 1er mars dans les locaux de la Maison de lâ€™Europ
 e de Brest.\nAfin de faire dÃ©couvrir les pays europÃ©ens et leur cult
 ure de maniÃ¨re conviviale et originale, la Maison de lâ€™Europe de Br
 est a mis en place une activitÃ© intitulÃ©e Â«Â Bienvenue chezâ€¦Â Â».
  Ces rencontres trimestrielles mettent en avant un pays europÃ©en auto
 ur dâ€™une activitÃ© culturelleÂ : confÃ©rence, dÃ©couverte dâ€™un aut
 eur, exposition, concert, filmâ€¦\nA lâ€™occasion de Â«Â Bienvenue che
 z les ChypriotesÂ Â», la Maison de lâ€™Europe mettra Ã  lâ€™honneur Ch
 ypre qui a assurÃ© la prÃ©sidence tournante du Conseil de lâ€™Union eu
 ropÃ©enne au 2e semestre 2012. Lâ€™exposition de photographies sera in
 augurÃ©e le lundi 18 fÃ©vrier Ã  18h Ã  la Maison de lâ€™Europe (16 ru
 e de lâ€™Harteloire) avec une dÃ©gustation de produits traditionnels c
 hypriotes et mise Ã  disposition gratuite de documents sur Chypre.\nPo
 ur plus dâ€™informationsÂ : Maison de lâ€™Europe de Brest â€“ TÃ©l.Â :
  02 98 46 60 09 â€“ EmailÂ : communication@maisoneurope-brest.eu\n\n\n
 Pour en savoir plus, rendez-vous sur http://www.breizhbook.com/events/
 bienvenue-chez-les-chypriotes
DTSTART;TZID=Europe/Paris:20130218T180000
DTEND;TZID=Europe/Paris:20130218T210000
CATEGORIES:vernissage
LOCATION:16, rue de l'Harteloire
WEBSITE:
URL:
CONTACT:
ORGANIZER;CN="Maison De l'Europe Brest":http://www.breizhbook.com/prof
 ile/MaisonDelEuropeBrest
ATTACH;FMTTYPE="image/jpeg":http://storage.ning.com/topology/rest/1.0/
 file/get/3198332795?profile=original
ATTENDEE;ROLE=REQ-PARTICIPANT;PARTSTAT=ACCEPTED;RSVP=TRUE;CN="Maison D
 e l'Europe Brest":http://www.breizhbook.com/profile/MaisonDelEuropeBre
 st
END:VEVENT
END:VCALENDAR
