BEGIN:VCALENDAR
PRODID:NingEventWidget-v1
VERSION:2.0
METHOD:PUBLISH
BEGIN:VTIMEZONE
TZID:Europe/Paris
X-LIC-LOCATION:Europe/Paris
BEGIN:DAYLIGHT
TZOFFSETFROM:+0100
TZOFFSETTO:+0200
TZNAME:CEST
DTSTART:19700329T020000
RRULE:FREQ=YEARLY;BYMONTH=3;BYDAY=-1SU
END:DAYLIGHT
BEGIN:STANDARD
TZOFFSETFROM:+0200
TZOFFSETTO:+0100
TZNAME:CET
DTSTART:19701025T030000
RRULE:FREQ=YEARLY;BYMONTH=10;BYDAY=-1SU
END:STANDARD
END:VTIMEZONE
BEGIN:VEVENT
UID:6339722:Event:132953
DTSTAMP:20260423T162131Z
SUMMARY:Because of the destruction of the ozone layer environment
DESCRIPTION:\nGet ready to knock 锟斤拷em dead at any party with th
 e trendiest American eyewear, Ray-Ban Sunglasses. These prescription s
 unglasses come in a variety of shapes and styles to give you that admi
 rable look that you锟斤拷ve always craved. Put on these fashionable
  shades, and step out in style.\nAre you looking for designer sunglass
 es that fit in with the latest trends? Then, Christian Dior Eyeglasses
  are your ideal choice. Every single piece from this famous brand ooze
 s fashion. These sunglasses make a great eyewear for anyone irrespecti
 ve of their age.\nIf versatility is what you expect from your sunglass
 es, then Jonathan Paul prescription glasses are just right for you. Yo
 u can choose from an assortment of cool shades at great prices.\nCreat
 e a fashion wow with Ralph Sunglasses. Simply pair these stylish presc
 ription glasses with any outfit, and you will never go unnoticed.\nSle
 ek, hot, and stylish are the three words that best describe Gucci Sung
 lasses. These bold sunglasses boast dynamic and unique design. The adv
 anced features of these sunglasses are what that sets them apart from 
 the rest.\nDon Oakley designer sunglasses and get ready to invite some
  admiring glances. Oakley Sunglasses are synonymous with superior qual
 ity and excellent craftsmanship.\nBCBG sunglasses are fashioned to sui
 t the ever-changing tastes and preferences of every individual. Take y
 our pick from the many styles available.\nNike Sunglasses deserve to b
 e called 锟斤拷an all time favorite.锟斤拷 These sports sunglass
 es are the height of sophistication for athletes.\nIf cheapoakleysung
 lassessstore you are someone who has an incessant flair for fashion, 
 then you definitely shouldn锟斤拷t ignore Vogue prescription sungla
 sses. The fine-tuned features of these sunglasses make them a must hav
 e.\nVersace Sunglasses blend glamour, luxury, style, and elegance in t
 he right proportions. Any fashion-savvy person would opt for these rel
 iable and stylish designer sunglasses.\nSo, do you want to shop for a 
 pair of sunglasses from any these top ten brands? Then, visit Best Buy
  Sunglasses to get the best deals on sunglasses and eyeglasses.\n Zip
 per finished trunk can potentially possibly be locked, so that you inc
 lude almost nothing missing out on. Possesses looked after some sort o
 f effortless data file previous to you might want to closure this jean
  pocket. Rack repleat having satin stuff that can help defend this gla
 sses. Set up external would be the similar stuff is usually a tender e
 motion. Collapsable carton motorcycle returning and grow this observe 
 service.Oakley glasses absolutely are a highly sought after model of 
 oakley store glasses and are therefore generally difficult to find wh
 en sales.marked down charges .  Your surface features are available i
 n a range of unique models and have absolutely 3 connected with 24 in 
 a area suitable. Many people are also made of this rotation in additio
 n to non-rotating. We have now good vogue model, to show off made for 
 almost any interior decoration. Your rotary bottom to indicate each of
  the selections usually are locked or maybe definitely not.Another sol
 ution decision will be to consider community cost-free categorised int
 ernet websites to make sure in the event almost any community merchant
 s usually are enduring relief profits. This is frequently including gu
 esswork mainly because most of these merchants don锟斤拷t accomplis
 h a large number of advertising and marketing and are therefore imposs
 ible to manufacture a substantial record about the glasses located on 
 sales. If you have a common community retail outlet during which you w
 ould like to acquire cheapsunglassesdeal, in which case you should cel
 lular phone or perhaps e-mail these people and listen to whenever they
  are often positioning his or her glasses when sales soon.\n\nPour en 
 savoir plus, rendez-vous sur http://www.breizhbook.com/events/because-
 of-the-destruction-of-the-ozone-layer-environment
DTSTART;TZID=Europe/Paris:20120922T180000
DTEND;TZID=Europe/Paris:20120922T190000
CATEGORIES:birthday, party
LOCATION:London
WEBSITE:
URL:
CONTACT:
ORGANIZER;CN="willis surrey charles":http://www.breizhbook.com/profile
 /willissurreycharles
ATTACH;FMTTYPE="image/jpeg":
ATTENDEE;ROLE=REQ-PARTICIPANT;PARTSTAT=ACCEPTED;RSVP=TRUE;CN="willis s
 urrey charles":http://www.breizhbook.com/profile/willissurreycharles
END:VEVENT
END:VCALENDAR
