BEGIN:VCALENDAR
PRODID:NingEventWidget-v1
VERSION:2.0
METHOD:PUBLISH
BEGIN:VTIMEZONE
TZID:Europe/Paris
X-LIC-LOCATION:Europe/Paris
BEGIN:DAYLIGHT
TZOFFSETFROM:+0100
TZOFFSETTO:+0200
TZNAME:CEST
DTSTART:19700329T020000
RRULE:FREQ=YEARLY;BYMONTH=3;BYDAY=-1SU
END:DAYLIGHT
BEGIN:STANDARD
TZOFFSETFROM:+0200
TZOFFSETTO:+0100
TZNAME:CET
DTSTART:19701025T030000
RRULE:FREQ=YEARLY;BYMONTH=10;BYDAY=-1SU
END:STANDARD
END:VTIMEZONE
BEGIN:VEVENT
UID:6339722:Event:130957
DTSTAMP:20260423T145243Z
SUMMARY:Because digital cameras can take slightly longer to focus chea
 p sunglasses
DESCRIPTION:The Lattice sweater oakley glasses cheap is a funky choice
  for the truly fashion forward fashionista. This beautiful sweater fea
 tures pom-poms and cutout cheap oakley sunglasses for men lattice de
 tails. The ribbed banding at hem and cuffs are further accents that dr
 aw attention to the overall look of this cheap oakleys for sale piece.
  With shorts cheap oakley sunglasses usa and a cotton black bra, this 
 sweater is sexy without being too revealing. In the winter, wear this 
 sweater over your favorite long sleeve top for a unique twist on the b
 asic black sweater. This is a sweater design that you can definitely w
 ear through multiple seasons without a second thought!For simple sneak
 ers that are great for everyday, pick up the Jack Purcell in navy for 
 $44.95. These sneakers are made with canvas uppers and premium laces w
 ith metal eyelets for durability. The rubber bumper toe cap features a
  signature toe smile. The Jack Purcell heel tab and embroidered tongue
  are trademark features of this functional shoe. The 1/2' thick comfor
 t insole makes these shoes extremely comfortable for everyday. The lig
 htly padded tongue and upper sockliner are just additional features th
 at allow this shoe to be a great casual sneaker.\n4. Because digital c
 ameras can take slightly longer to focus cheap sunglasses oakley than 
 film cameras, a good digital photography tip to avoid blurry and out-o
 f-focus shots is to half-depress the shutter oakley frogskins polariz
 ed button until the camera has oakley sunglasses outlet had time to l
 ock the focus, and then completely press the button to take the actual
  shot.\n\nPour en savoir plus, rendez-vous sur http://www.breizhbook.c
 om/events/because-digital-cameras-can-take-slightly-longer-to-focus-ch
 eap
DTSTART;TZID=Europe/Paris:20120827T180000
DTEND;TZID=Europe/Paris:20120930T190000
CATEGORIES:birthday, party
LOCATION:London
WEBSITE:
URL:
CONTACT:
ORGANIZER;CN="willis surrey charles":http://www.breizhbook.com/profile
 /willissurreycharles
ATTACH;FMTTYPE="image/jpeg":
ATTENDEE;ROLE=REQ-PARTICIPANT;PARTSTAT=ACCEPTED;RSVP=TRUE;CN="willis s
 urrey charles":http://www.breizhbook.com/profile/willissurreycharles
END:VEVENT
END:VCALENDAR
