BEGIN:VCALENDAR
PRODID:NingEventWidget-v1
VERSION:2.0
METHOD:PUBLISH
BEGIN:VTIMEZONE
TZID:Europe/Paris
X-LIC-LOCATION:Europe/Paris
BEGIN:DAYLIGHT
TZOFFSETFROM:+0100
TZOFFSETTO:+0200
TZNAME:CEST
DTSTART:19700329T020000
RRULE:FREQ=YEARLY;BYMONTH=3;BYDAY=-1SU
END:DAYLIGHT
BEGIN:STANDARD
TZOFFSETFROM:+0200
TZOFFSETTO:+0100
TZNAME:CET
DTSTART:19701025T030000
RRULE:FREQ=YEARLY;BYMONTH=10;BYDAY=-1SU
END:STANDARD
END:VTIMEZONE
BEGIN:VEVENT
UID:6339722:Event:130802
DTSTAMP:20260423T181955Z
SUMMARY:Battage du seigle à l'ancienne chez nos amis de l'Ecomusée d
 e St Dégan
DESCRIPTION:Battage du seigle à l'ancienne\n\nPour en savoir plus, re
 ndez-vous sur http://www.breizhbook.com/events/battage-du-seigle-l-anc
 ienne-chez-nos-amis-de-l-ecomus-e-de-st-d
DTSTART;TZID=Europe/Paris:20120824T000000
DTEND;TZID=Europe/Paris:20120824T235900
CATEGORIES:fête, champêtre, pour, petits, et, grands
LOCATION:Ecomusée de Saint Dégan
WEBSITE:http://www.ecomusee-st-degan.fr/
URL:http://www.ecomusee-st-degan.fr/
CONTACT:02 97 57 66 00
ORGANIZER:Vacances Morbihan Sud/Ecomusée Saint Dégan
ATTACH;FMTTYPE="image/jpeg":
ATTENDEE;ROLE=REQ-PARTICIPANT;PARTSTAT=ACCEPTED;RSVP=TRUE;CN="Vacances
  Morbihan Sud":http://www.breizhbook.com/profile/VacancesMorbihanSud
END:VEVENT
END:VCALENDAR
