BEGIN:VCALENDAR
PRODID:NingEventWidget-v1
VERSION:2.0
METHOD:PUBLISH
BEGIN:VTIMEZONE
TZID:Europe/Paris
X-LIC-LOCATION:Europe/Paris
BEGIN:DAYLIGHT
TZOFFSETFROM:+0100
TZOFFSETTO:+0200
TZNAME:CEST
DTSTART:19700329T020000
RRULE:FREQ=YEARLY;BYMONTH=3;BYDAY=-1SU
END:DAYLIGHT
BEGIN:STANDARD
TZOFFSETFROM:+0200
TZOFFSETTO:+0100
TZNAME:CET
DTSTART:19701025T030000
RRULE:FREQ=YEARLY;BYMONTH=10;BYDAY=-1SU
END:STANDARD
END:VTIMEZONE
BEGIN:VEVENT
UID:6339722:Event:90564
DTSTAMP:20260423T181826Z
SUMMARY:Balade des Motards ont du Coeur
DESCRIPTION:Les Motards ont du coeur d'Ille et VilaineÂ est une associ
 ation qui propose une balade pour les motards qui veulent nous aider Ã
   collecter des fonds pour les restos ont du coeur. La participation e
 st de 17â‚¬uros par casque, repas compris. Si vous voulez nous rejoind
 re pour cette ballade, vous pouvez vous inscrire sur le site des motar
 ds ont du coeur.\nVoici l'adresse du site:\nhttp://www.lesmotardsontdu
 coeur.com/\nMerci Ã  tous ceux qui viendront.\nLes Motards ont du Coeu
 r\nÂ \n\nPour en savoir plus, rendez-vous sur http://www.breizhbook.co
 m/events/ballade-des-motards-ont-du-coeur
DTSTART;TZID=Europe/Paris:20120603T000000
DTEND;TZID=Europe/Paris:20120603T235900
CATEGORIES:collecte, pour, les, restos, ont, du, coeur
LOCATION:rassemblement sur circuit motos d'Iffendic(35)
WEBSITE:http://www.lesmotardsontducoeur.com/
URL:http://www.lesmotardsontducoeur.com/
CONTACT:
ORGANIZER:les Motards ont du Coeur
ATTACH;FMTTYPE="image/jpeg":http://storage.ning.com/topology/rest/1.0/
 file/get/3198305015?profile=original
ATTENDEE;ROLE=REQ-PARTICIPANT;PARTSTAT=ACCEPTED;RSVP=TRUE;CN="CHAPIN B
 runo":http://www.breizhbook.com/profile/CHAPINBruno
ATTENDEE;ROLE=REQ-PARTICIPANT;PARTSTAT=TENTATIVE;RSVP=TRUE;CN="JY Tual
 ":http://www.breizhbook.com/profile/JYTual
END:VEVENT
END:VCALENDAR
