BEGIN:VCALENDAR
PRODID:NingEventWidget-v1
VERSION:2.0
METHOD:PUBLISH
BEGIN:VTIMEZONE
TZID:Europe/Paris
X-LIC-LOCATION:Europe/Paris
BEGIN:DAYLIGHT
TZOFFSETFROM:+0100
TZOFFSETTO:+0200
TZNAME:CEST
DTSTART:19700329T020000
RRULE:FREQ=YEARLY;BYMONTH=3;BYDAY=-1SU
END:DAYLIGHT
BEGIN:STANDARD
TZOFFSETFROM:+0200
TZOFFSETTO:+0100
TZNAME:CET
DTSTART:19701025T030000
RRULE:FREQ=YEARLY;BYMONTH=10;BYDAY=-1SU
END:STANDARD
END:VTIMEZONE
BEGIN:VEVENT
UID:6339722:Event:118060
DTSTAMP:20260423T175211Z
SUMMARY:Ballade celtique
DESCRIPTION:Samedi 9 Juin, 20h 30, Ã  Broualan (35120), dans la grande
  salle de La ferme Le Domaine, avec sa magnifique cheminÃ©e Une veillÃ
 ©e-spectacle, contes et harpe, pleine d'Ã©tonnantes aventures et de ch
 aleureuse ambiance, alternant :\n... contes de Bretagne, d'Ã‰cosse, et
  d'Irlande, vigoureusement rÃ©-animÃ©s par le facÃ©tieux conteur profe
 ssionnel Jean-Pierre MATHIAS\n... introduits, soutenus, et amplifiÃ©s 
 par les magies de la harpe celtique, sous le doigtÃ© de Florence JAMAI
 N\nÃ‰tranges brumes dÃ©routantes,\npÃ©rilleuses aventures nocturnes,\n
 plongeons en eaux profondes, et autres \"mondes d'en-dessous\",\ndes p
 ortes de l'enfer Ã  celles de \"l'Ã©ternelle jeunesse\",\nrencontres a
 vec le Roi des saumons et une biche \"emmorphosÃ©e\",\n... mine de rie
 n, vous aussi vous serez transportÃ©s et, mine de rien, vous aussi vou
 s en reviendrez !\n... car ces deux lÃ  sauront vous donner Ã  \"parta
 ger des merveilles\" : une belle veillÃ©e conviviale en perspective ! 
 ...\nSoirÃ©e familiale conseillÃ©e Ã  toutes les oreilles attentives !
 \nRÃ©servations (8 â‚¬ Ã  partir de 8 ans) : 02.99.73.30.89\nhttp://ww
 w.fermedudomaine.fr/ferme.htm\n\nPour en savoir plus, rendez-vous sur 
 http://www.breizhbook.com/events/ballade-celtique
DTSTART;TZID=Europe/Paris:20120609T203000
DTEND;TZID=Europe/Paris:20120609T223000
CATEGORIES:conte
LOCATION:Remplissage
WEBSITE:http://www.fermedudomaine.fr/ferme.htm
URL:http://www.fermedudomaine.fr/ferme.htm
CONTACT:0299733089
ORGANIZER;CN=MATHIAS:http://www.breizhbook.com/profile/MATHIAS
ATTACH;FMTTYPE="image/jpeg":http://storage.ning.com/topology/rest/1.0/
 file/get/3198316057?profile=original
ATTENDEE;ROLE=REQ-PARTICIPANT;PARTSTAT=ACCEPTED;RSVP=TRUE;CN=MATHIAS:h
 ttp://www.breizhbook.com/profile/MATHIAS
END:VEVENT
END:VCALENDAR
