BEGIN:VCALENDAR
PRODID:NingEventWidget-v1
VERSION:2.0
METHOD:PUBLISH
BEGIN:VTIMEZONE
TZID:Europe/Paris
X-LIC-LOCATION:Europe/Paris
BEGIN:DAYLIGHT
TZOFFSETFROM:+0100
TZOFFSETTO:+0200
TZNAME:CEST
DTSTART:19700329T020000
RRULE:FREQ=YEARLY;BYMONTH=3;BYDAY=-1SU
END:DAYLIGHT
BEGIN:STANDARD
TZOFFSETFROM:+0200
TZOFFSETTO:+0100
TZNAME:CET
DTSTART:19701025T030000
RRULE:FREQ=YEARLY;BYMONTH=10;BYDAY=-1SU
END:STANDARD
END:VTIMEZONE
BEGIN:VEVENT
UID:6339722:Event:132595
DTSTAMP:20260423T162847Z
SUMMARY:Ballade celtique, contes et harpe
DESCRIPTION:contes et harpe entre Bretagne, Irlande et Ecosse, duo Jea
 n-Pierre Mathias et Florence Jamain.Dans le cadre des RDV magiques \"L
 es Goûters Enchantés\", le 2ème dimanche de chaque mois, dans ce ce
 ntre de yoga dirigé par Stéphanie Launay.http://contes-et-merveilles
 .com/prestations/spectacles/ballade-celtique-contes-et-harpe\n\nPour e
 n savoir plus, rendez-vous sur http://www.breizhbook.com/events/ballad
 e-celtique-contes-et-harpe
DTSTART;TZID=Europe/Paris:20130414T160000
DTEND;TZID=Europe/Paris:20130414T180000
CATEGORIES:conte
LOCATION:La Maison des Anges
WEBSITE:http://www.contes-et-merveilles.com/agenda.php
URL:http://www.contes-et-merveilles.com/agenda.php
CONTACT:
ORGANIZER;CN=MATHIAS:http://www.breizhbook.com/profile/MATHIAS
ATTACH;FMTTYPE="image/jpeg":http://storage.ning.com/topology/rest/1.0/
 file/get/3198325577?profile=original
ATTENDEE;ROLE=REQ-PARTICIPANT;PARTSTAT=ACCEPTED;RSVP=TRUE;CN=MATHIAS:h
 ttp://www.breizhbook.com/profile/MATHIAS
END:VEVENT
END:VCALENDAR
