BEGIN:VCALENDAR
PRODID:NingEventWidget-v1
VERSION:2.0
METHOD:PUBLISH
BEGIN:VTIMEZONE
TZID:Europe/Paris
X-LIC-LOCATION:Europe/Paris
BEGIN:DAYLIGHT
TZOFFSETFROM:+0100
TZOFFSETTO:+0200
TZNAME:CEST
DTSTART:19700329T020000
RRULE:FREQ=YEARLY;BYMONTH=3;BYDAY=-1SU
END:DAYLIGHT
BEGIN:STANDARD
TZOFFSETFROM:+0200
TZOFFSETTO:+0100
TZNAME:CET
DTSTART:19701025T030000
RRULE:FREQ=YEARLY;BYMONTH=10;BYDAY=-1SU
END:STANDARD
END:VTIMEZONE
BEGIN:VEVENT
UID:6339722:Event:117640
DTSTAMP:20260423T175642Z
SUMMARY:atelier d'écriture Dialogue ex Croisée des Mots Guingamp
DESCRIPTION:Le lundi 14 mai de 14h30 à 16h, 27 bis rue des Ponts St M
 ichel à Guingamp (Centre-Ville, au bord du Trieux, 1er étage sous le
  porche), atelier d'écriture sur le thème de La Ville ouvert à tous
 , écrivains confirmés comme à l'inverse ceux qui se croient trop é
 loignés de l'écrit, nuls en orthographe, en rédaction, croient-ils 
 encore...\n \nLes jeux proposés permettront de se frotter aux techni
 ques des plus grands poètes, de bénéficier de la dynamique de group
 e, de casser ses habitudes, de renouveler son imaginaire, sa créativi
 té, de se redécouvrir, reprendre confiance en soi, ouvrir de nouvell
 es perspectives, etc...\n \nCet atelier se terminera en juillet par u
 n recueil des différentes oeuvres et  sera présenté au concours de
  l'Association de la Poésie Contemporaine Française.\n \nVous pourr
 ez me rencontrer à St Agathon, salle Omnisports, ce dimanche 29 avril
  de 10h à 18h, au stand de l'Art Brut, à l'exposition de l'associati
 on Art et Création.\nViviane Rommelaere\n\nPour en savoir plus, rende
 z-vous sur http://www.breizhbook.com/events/atelier-d-criture-dialogue
 -ex-crois-e-des-mots-guingamp
DTSTART;TZID=Europe/Paris:20120514T000000
DTEND;TZID=Europe/Paris:20120514T010000
CATEGORIES:atelier, "d'écriture"
LOCATION:Guingamp, Côtes d'Armor
WEBSITE:http://blog50 foutraque art insolite
URL:http://blog50 foutraque art insolite
CONTACT:0296956784
ORGANIZER;CN=arel:http://www.breizhbook.com/profile/rommelaeresimonviv
 iane
ATTACH;FMTTYPE="image/jpeg":
ATTENDEE;ROLE=REQ-PARTICIPANT;PARTSTAT=ACCEPTED;RSVP=TRUE;CN=arel:http
 ://www.breizhbook.com/profile/rommelaeresimonviviane
END:VEVENT
END:VCALENDAR
