BEGIN:VCALENDAR
PRODID:NingEventWidget-v1
VERSION:2.0
METHOD:PUBLISH
BEGIN:VTIMEZONE
TZID:Europe/Paris
X-LIC-LOCATION:Europe/Paris
BEGIN:DAYLIGHT
TZOFFSETFROM:+0100
TZOFFSETTO:+0200
TZNAME:CEST
DTSTART:19700329T020000
RRULE:FREQ=YEARLY;BYMONTH=3;BYDAY=-1SU
END:DAYLIGHT
BEGIN:STANDARD
TZOFFSETFROM:+0200
TZOFFSETTO:+0100
TZNAME:CET
DTSTART:19701025T030000
RRULE:FREQ=YEARLY;BYMONTH=10;BYDAY=-1SU
END:STANDARD
END:VTIMEZONE
BEGIN:VEVENT
UID:6339722:Event:215006
DTSTAMP:20260423T161041Z
SUMMARY:ASF Breizh
DESCRIPTION:Formation \"Le bail commercial\"\n \nPour les créateurs 
 d'entreprise, gérants, commerçants, entrepreneurs, ...\nComprendre, 
 déchiffrer, renouveler, ... le bail commercial.\nInscription au : 02 
 90 36 01 41.\nLundi 9 décembre de 9h30 à 12h30.\nParticipation : 20 
 €.\n\nPour en savoir plus, rendez-vous sur http://www.breizhbook.com
 /events/asf-breizh
DTSTART;TZID=Europe/Paris:20131209T093000
DTEND;TZID=Europe/Paris:20131209T123000
CATEGORIES:formation
LOCATION:28 Place du Général de Gaulle Lanvollon
WEBSITE:http://www.asfbreizh.com
URL:http://www.asfbreizh.com
CONTACT:0290360141
ORGANIZER;CN="ASF BREIZH":http://www.breizhbook.com/profile/ASFBREIZH5
 72
ATTACH;FMTTYPE="image/jpeg":http://storage.ning.com/topology/rest/1.0/
 file/get/3198363449?profile=original
ATTENDEE;ROLE=REQ-PARTICIPANT;PARTSTAT=ACCEPTED;RSVP=TRUE;CN="ASF BREI
 ZH":http://www.breizhbook.com/profile/ASFBREIZH572
END:VEVENT
END:VCALENDAR
