BEGIN:VCALENDAR
PRODID:NingEventWidget-v1
VERSION:2.0
METHOD:PUBLISH
BEGIN:VTIMEZONE
TZID:Europe/Paris
X-LIC-LOCATION:Europe/Paris
BEGIN:DAYLIGHT
TZOFFSETFROM:+0100
TZOFFSETTO:+0200
TZNAME:CEST
DTSTART:19700329T020000
RRULE:FREQ=YEARLY;BYMONTH=3;BYDAY=-1SU
END:DAYLIGHT
BEGIN:STANDARD
TZOFFSETFROM:+0200
TZOFFSETTO:+0100
TZNAME:CET
DTSTART:19701025T030000
RRULE:FREQ=YEARLY;BYMONTH=10;BYDAY=-1SU
END:STANDARD
END:VTIMEZONE
BEGIN:VEVENT
UID:6339722:Event:117652
DTSTAMP:20260423T163540Z
SUMMARY:Arrivée du Belem...
DESCRIPTION:\"Et pourquoi pas vous !\" Bélem le 19 et 20 mai 2012 au 
 port du légué Saint-Brieuc côtes d'armor . avec la S.N.S.M Erquy ,S
 .N.S.M 22 et le vieux gréement la Sainte-Jeanne ..  \n\nPour en savo
 ir plus, rendez-vous sur http://www.breizhbook.com/events/arriv-e-du-b
 elem
DTSTART;TZID=Europe/Paris:20120519T183000
DTEND;TZID=Europe/Paris:20120521T070000
CATEGORIES:sortir
LOCATION:Quay Surcouf
WEBSITE:
URL:
CONTACT:
ORGANIZER;CN="Stéphane le Roux":http://www.breizhbook.com/profile/Ste
 phaneleRoux
ATTACH;FMTTYPE="image/jpeg":
ATTENDEE;ROLE=REQ-PARTICIPANT;PARTSTAT=ACCEPTED;RSVP=TRUE;CN="Stéphan
 e le Roux":http://www.breizhbook.com/profile/StephaneleRoux
END:VEVENT
END:VCALENDAR
