BEGIN:VCALENDAR
PRODID:NingEventWidget-v1
VERSION:2.0
METHOD:PUBLISH
BEGIN:VTIMEZONE
TZID:Europe/Paris
X-LIC-LOCATION:Europe/Paris
BEGIN:DAYLIGHT
TZOFFSETFROM:+0100
TZOFFSETTO:+0200
TZNAME:CEST
DTSTART:19700329T020000
RRULE:FREQ=YEARLY;BYMONTH=3;BYDAY=-1SU
END:DAYLIGHT
BEGIN:STANDARD
TZOFFSETFROM:+0200
TZOFFSETTO:+0100
TZNAME:CET
DTSTART:19701025T030000
RRULE:FREQ=YEARLY;BYMONTH=10;BYDAY=-1SU
END:STANDARD
END:VTIMEZONE
BEGIN:VEVENT
UID:6339722:Event:150752
DTSTAMP:20260423T192600Z
SUMMARY:Armor le film
DESCRIPTION:Plus que quelques jours pour la sortie d'Armor en version 
 web, en attendant le tournage de la version professionnelle prend form
 e. Le tournage aura lieu cet été dans la région de Dinan et je vous
  propose de prendre part à ce tournage, pour plus d'infos cliquez sur
  ce lien : http://www.touscoprod.com/fr/project/produce?id=518\n\nPour
  en savoir plus, rendez-vous sur http://www.breizhbook.com/events/armo
 r-le-film
DTSTART;TZID=Europe/Paris:20130208T180000
DTEND;TZID=Europe/Paris:20130208T190000
CATEGORIES:tournage, film
LOCATION:Dinan et alentours
WEBSITE:
URL:
CONTACT:
ORGANIZER;CN="Alex Serval":http://www.breizhbook.com/profile/AlexServa
 l
ATTACH;FMTTYPE="image/jpeg":http://storage.ning.com/topology/rest/1.0/
 file/get/3198333091?profile=original
ATTENDEE;ROLE=REQ-PARTICIPANT;PARTSTAT=ACCEPTED;RSVP=TRUE;CN="Alex Ser
 val":http://www.breizhbook.com/profile/AlexServal
END:VEVENT
END:VCALENDAR
