BEGIN:VCALENDAR
PRODID:NingEventWidget-v1
VERSION:2.0
METHOD:PUBLISH
BEGIN:VTIMEZONE
TZID:Europe/Paris
X-LIC-LOCATION:Europe/Paris
BEGIN:DAYLIGHT
TZOFFSETFROM:+0100
TZOFFSETTO:+0200
TZNAME:CEST
DTSTART:19700329T020000
RRULE:FREQ=YEARLY;BYMONTH=3;BYDAY=-1SU
END:DAYLIGHT
BEGIN:STANDARD
TZOFFSETFROM:+0200
TZOFFSETTO:+0100
TZNAME:CET
DTSTART:19701025T030000
RRULE:FREQ=YEARLY;BYMONTH=10;BYDAY=-1SU
END:STANDARD
END:VTIMEZONE
BEGIN:VEVENT
UID:6339722:Event:115394
DTSTAMP:20260423T163540Z
SUMMARY:ar REDADEG 2012
DESCRIPTION:La Redadeg est une course de relais en Bretagne, ouverte Ã
   tous pour la langue bretonne.Â LancÃ©e en 2008, elle a lieu tous les
  2 ans et se dÃ©roulera cette annÃ©e,Â du 12 au 19 Mai 2012Â .Â Son pr
 incipeÂ : les participants se passent un tÃ©moin, de ville en ville, d
 e jour comme de nuit, dans toute la Bretagne.Â Au total,Â 1500 kms par
 courus de Brest Ã  DouarnenezÂ en passant par Morlaix, Saint-Brieuc, S
 aint-Malo, Rennes, Nantes, Vannes, Lorient, Rostrenen, Rosporden, Carh
 aix, Crozon... etÂ mis Ã  la venteÂ pour leÂ financement de projets en
  faveur de lâ€™usage et de la transmission de la langue bretonne dans 
 la sociÃ©tÃ©.\n\nPour en savoir plus, rendez-vous sur http://www.breiz
 hbook.com/events/ar-redadeg-2012
DTSTART;TZID=Europe/Paris:20120512T160000
DTEND;TZID=Europe/Paris:20120519T190000
CATEGORIES:brezhoneg, ha, plijadur
LOCATION:Bretagne
WEBSITE:http://www.ar-redadeg.org
URL:http://www.ar-redadeg.org
CONTACT:
ORGANIZER;CN="Joannic Annaig":http://www.breizhbook.com/profile/Joanni
 cAnnaig
ATTACH;FMTTYPE="image/jpeg":http://storage.ning.com/topology/rest/1.0/
 file/get/3198313134?profile=original
ATTENDEE;ROLE=REQ-PARTICIPANT;PARTSTAT=ACCEPTED;RSVP=TRUE;CN="Joannic 
 Annaig":http://www.breizhbook.com/profile/JoannicAnnaig
END:VEVENT
END:VCALENDAR
