BEGIN:VCALENDAR
PRODID:NingEventWidget-v1
VERSION:2.0
METHOD:PUBLISH
BEGIN:VTIMEZONE
TZID:Europe/Paris
X-LIC-LOCATION:Europe/Paris
BEGIN:DAYLIGHT
TZOFFSETFROM:+0100
TZOFFSETTO:+0200
TZNAME:CEST
DTSTART:19700329T020000
RRULE:FREQ=YEARLY;BYMONTH=3;BYDAY=-1SU
END:DAYLIGHT
BEGIN:STANDARD
TZOFFSETFROM:+0200
TZOFFSETTO:+0100
TZNAME:CET
DTSTART:19701025T030000
RRULE:FREQ=YEARLY;BYMONTH=10;BYDAY=-1SU
END:STANDARD
END:VTIMEZONE
BEGIN:VEVENT
UID:6339722:Event:148442
DTSTAMP:20260423T175850Z
SUMMARY:Apprenez Ã  faire du pain au levain !
DESCRIPTION:Apprenez Ã  faire du pain et des pÃ¢tisseries au levain et
  au feu de bois, avec un boulanger formateur - Ã  Plobannalec-Lesconil
   Objectifs : *DiffÃ©rencier les cÃ©rÃ©ales, les farines et les techni
 ques de panification *AcquÃ©rir une bonne autonomie dans les diffÃ©ren
 tes Ã©tapes de panification (frasage, pÃ©trissage, pointage...) *RÃ©al
 iser diffÃ©rents pains et pÃ¢tisseries  Animation : 1 boulanger (Pierr
 e-Yves Chossec) + 1 intervenante de l'Association Al'Terre Breizh  Nou
 rriture : Les ingrÃ©dients sont issus majoritairement de produits de s
 aison, locaux et exempts de pesticides.Un Ã©chantillon des rÃ©alisatio
 ns sera dÃ©gustÃ© au goÃ»ter.   Participation au frais : Normal : 60â‚
 ¬ + 10 â‚¬ d'adhÃ©sion Ã  l'association Alâ€™Terre Breizh RÃ©duit : 30
 â‚¬ + 5 â‚¬ d'adhÃ©sion Couple : 100â‚¬ + 15 â‚¬ d'adhÃ©sion Inclus : 
 repas de midi et gouter+ quelques pains/pÃ¢tisseries Ã  ramener chez s
 oi.  Envie dâ€™en savoir plus sur lâ€™assoc Alâ€™Terre Breizh, sur le 
 stage ? Contactez nous au 09 72 37 18 24 ou par mail contact@alterrebr
 eizh.org  Visiter notre page et devenez fan ! http://www.facebook.com/
 pages/AlTerre-Breizh/283659518376734\n\nPour en savoir plus, rendez-vo
 us sur http://www.breizhbook.com/events/apprenez-faire-du-pain-au-leva
 in
DTSTART;TZID=Europe/Paris:20130210T090000
DTEND;TZID=Europe/Paris:20130210T170000
CATEGORIES:atelier, pratique
LOCATION:Plobannalec-Lesconil (FinistÃ¨re)
WEBSITE:
URL:
CONTACT:
ORGANIZER;CN="Al'Terre Breizh":http://www.breizhbook.com/profile/AlTer
 reBreizh
ATTACH;FMTTYPE="image/jpeg":http://storage.ning.com/topology/rest/1.0/
 file/get/3198332046?profile=original
ATTENDEE;ROLE=REQ-PARTICIPANT;PARTSTAT=ACCEPTED;RSVP=TRUE;CN="Al'Terre
  Breizh":http://www.breizhbook.com/profile/AlTerreBreizh
END:VEVENT
END:VCALENDAR
