BEGIN:VCALENDAR
PRODID:NingEventWidget-v1
VERSION:2.0
METHOD:PUBLISH
BEGIN:VTIMEZONE
TZID:Europe/Paris
X-LIC-LOCATION:Europe/Paris
BEGIN:DAYLIGHT
TZOFFSETFROM:+0100
TZOFFSETTO:+0200
TZNAME:CEST
DTSTART:19700329T020000
RRULE:FREQ=YEARLY;BYMONTH=3;BYDAY=-1SU
END:DAYLIGHT
BEGIN:STANDARD
TZOFFSETFROM:+0200
TZOFFSETTO:+0100
TZNAME:CET
DTSTART:19701025T030000
RRULE:FREQ=YEARLY;BYMONTH=10;BYDAY=-1SU
END:STANDARD
END:VTIMEZONE
BEGIN:VEVENT
UID:6339722:Event:148504
DTSTAMP:20260423T175854Z
SUMMARY:Apprenez Ã  faire du pain au levain !
DESCRIPTION:Apprenez Ã  faire du pain et des pÃ¢tisseries au levain et
  au feu de bois, avec un boulanger formateur - Ã  ScaÃ«r  Objectifs : 
 *DiffÃ©rencier les cÃ©rÃ©ales, les farines et les techniques de panifi
 cation *AcquÃ©rir une bonne autonomie dans les diffÃ©rentes Ã©tapes de
  panification (frasage, pÃ©trissage, pointage...) *RÃ©aliser diffÃ©ren
 ts pains et pÃ¢tisseries  Animation : 1 boulanger (Pierre-Yves Chossec
 ) + 1 intervenante de l'Association Al'Terre Breizh  Nourriture : Les 
 ingrÃ©dients sont issus majoritairement de produits de saison, locaux 
 et exempts de pesticides.Un Ã©chantillon des rÃ©alisations sera dÃ©gus
 tÃ© au goÃ»ter.   Participation au frais : Normal : 60â‚¬ + 10 â‚¬ d'a
 dhÃ©sion Ã  l'association Alâ€™Terre Breizh RÃ©duit : 30â‚¬ + 5 â‚¬ d'
 adhÃ©sion Couple : 100â‚¬ + 15 â‚¬ d'adhÃ©sion Inclus : repas de midi 
 et gouter+ quelques pains/pÃ¢tisseries Ã  ramener chez soi.  Envie dâ€
 ™en savoir plus sur lâ€™assoc Alâ€™Terre Breizh, sur le stage ? Contac
 tez nous au 09 72 37 18 24 ou par mail contact@alterrebreizh.org  Visi
 ter notre page et devenez fan ! http://www.facebook.com/pages/AlTerre-
 Breizh/283659518376734\n\nPour en savoir plus, rendez-vous sur http://
 www.breizhbook.com/events/apprenez-faire-du-pain-au-levain-1
DTSTART;TZID=Europe/Paris:20130324T090000
DTEND;TZID=Europe/Paris:20130324T170000
CATEGORIES:atelier, pratique
LOCATION:Scaer (FinistÃ¨re)
WEBSITE:https://www.facebook.com/pages/AlTerre-Breizh/283659518376734
URL:https://www.facebook.com/pages/AlTerre-Breizh/283659518376734
CONTACT:09 72 37 18 24
ORGANIZER;CN="Al'Terre Breizh":http://www.breizhbook.com/profile/AlTer
 reBreizh
ATTACH;FMTTYPE="image/jpeg":http://storage.ning.com/topology/rest/1.0/
 file/get/3198332829?profile=original
ATTENDEE;ROLE=REQ-PARTICIPANT;PARTSTAT=ACCEPTED;RSVP=TRUE;CN="Al'Terre
  Breizh":http://www.breizhbook.com/profile/AlTerreBreizh
END:VEVENT
END:VCALENDAR
