BEGIN:VCALENDAR
PRODID:NingEventWidget-v1
VERSION:2.0
METHOD:PUBLISH
BEGIN:VTIMEZONE
TZID:Europe/Paris
X-LIC-LOCATION:Europe/Paris
BEGIN:DAYLIGHT
TZOFFSETFROM:+0100
TZOFFSETTO:+0200
TZNAME:CEST
DTSTART:19700329T020000
RRULE:FREQ=YEARLY;BYMONTH=3;BYDAY=-1SU
END:DAYLIGHT
BEGIN:STANDARD
TZOFFSETFROM:+0200
TZOFFSETTO:+0100
TZNAME:CET
DTSTART:19701025T030000
RRULE:FREQ=YEARLY;BYMONTH=10;BYDAY=-1SU
END:STANDARD
END:VTIMEZONE
BEGIN:VEVENT
UID:6339722:Event:123393
DTSTAMP:20260423T150024Z
SUMMARY:Apprendre le breton en six mois à Carhaix et Douarnenez
DESCRIPTION:Roudour propose d'apprendre le breton en six mois grâce a
 ux méthodes innovantes rassemblées sous le terme d'Apprentissage Acc
 éléré. Les prochaines formations débuteront le 24 septembre à Car
 haix et Douarnenez. 70 % des stagiaires trouveront un emploi dans les 
 six mois suivants. Cette formation est prise en charge par la région 
 Bretagne pour les futurs enseignants en breton et les demandeurs d'emp
 loi. Les salariés peuvent suivre cette formation dans le cadre d'un C
 IF. Pour s'inscrire et constituer votre dossier, contactez Roudour par
  téléphone au 02 98 99 75 81 ou par internet : Source : http://www.a
 gencebretagnepresse.com/fetch.php?id=26386Copyright © agencebretagnep
 resse.com\n\nPour en savoir plus, rendez-vous sur http://www.breizhboo
 k.com/events/apprendre-le-breton-en-six-mois-carhaix-et-douarnenez
DTSTART;TZID=Europe/Paris:20120924T090000
DTEND;TZID=Europe/Paris:20130329T170000
CATEGORIES:formation, -, stage
LOCATION:Douarnenez - Carhaix
WEBSITE:http://www.roudour.com/
URL:http://www.roudour.com/
CONTACT:02 98 99 75 81
ORGANIZER;CN="Roudour Scop":http://www.breizhbook.com/profile/RoudourS
 cop
ATTACH;FMTTYPE="image/jpeg":http://storage.ning.com/topology/rest/1.0/
 file/get/3198319080?profile=original
ATTENDEE;ROLE=REQ-PARTICIPANT;PARTSTAT=ACCEPTED;RSVP=TRUE;CN="Roudour 
 Scop":http://www.breizhbook.com/profile/RoudourScop
END:VEVENT
END:VCALENDAR
