BEGIN:VCALENDAR
PRODID:NingEventWidget-v1
VERSION:2.0
METHOD:PUBLISH
BEGIN:VTIMEZONE
TZID:Europe/Paris
X-LIC-LOCATION:Europe/Paris
BEGIN:DAYLIGHT
TZOFFSETFROM:+0100
TZOFFSETTO:+0200
TZNAME:CEST
DTSTART:19700329T020000
RRULE:FREQ=YEARLY;BYMONTH=3;BYDAY=-1SU
END:DAYLIGHT
BEGIN:STANDARD
TZOFFSETFROM:+0200
TZOFFSETTO:+0100
TZNAME:CET
DTSTART:19701025T030000
RRULE:FREQ=YEARLY;BYMONTH=10;BYDAY=-1SU
END:STANDARD
END:VTIMEZONE
BEGIN:VEVENT
UID:6339722:Event:148200
DTSTAMP:20260423T181709Z
SUMMARY:Apprendre à autoconstruire une éolienne domestique
DESCRIPTION:Vous avez envie d'être plus autonome ? Vous avez envie d'
 apprendre à réaliser une éolienne domestique ? Participez à 5 jour
 s de stage qui permettront d'autoconstruire 2 éoliennes.   Objectifs 
 : * Réaliser 2 éoliennes conçues pour être faciles à fabriquer, a
 voir une bonne production avec les vents moyens, et résister aux vent
 s forts. Une éolienne sera installée sur place, l'autre tirée au so
 rt en fin de stage et le-la gagnant-e pourra l'emporter après paiemen
 t des matières premières. *Acquérir une bonne autonomie en particip
 ant aux 3 ateliers : bois, mécanique, résine et électricité  Anima
 tion : 2 formateurs de l’association Tripalium (www.tripalium.org) +
  1 intervenante de l'Association Al'Terre Breizh  Nourriture : Les dé
 jeuners sont cuisinés majoritairement à partir de produits de saison
 , locaux et issus de l’agriculture biologique.  Si besoin d’héber
 gement sur place, nous contacter.  Participation au frais :  *Normal :
  390€ (comprenant les repas de midi et l'ensemble des matériaux né
 cessaires) + 10 € d'adhésion à l'association Al’Terre Breizh  *R
 éduit : 220€ + 5€ d'adhésion  *Professionnel (dans le cadre d'un
  DIF ou d'un plan de formation) : prix spécifique ==> nous contacter 
  Envie d'en savoir plus sur l'assoc Al'Terre Breizh, sur le stage ? Co
 ntactez nous au 09 72 37 18 24 ou par mail contact@alterrebreizh.org  
 Visiter notre page et devenez fan ! http://www.facebook.com/pages/AlTe
 rre-Breizh/283659518376734\n\nPour en savoir plus, rendez-vous sur htt
 p://www.breizhbook.com/events/apprendre-autoconstruire-une-olienne-dom
 estique
DTSTART;TZID=Europe/Paris:20130225T000000
DTEND;TZID=Europe/Paris:20130301T235900
CATEGORIES:atelier, pratique
LOCATION:Scaer (Finistère)
WEBSITE:https://www.facebook.com/pages/AlTerre-Breizh/283659518376734
URL:https://www.facebook.com/pages/AlTerre-Breizh/283659518376734
CONTACT:09 72 37 18 24
ORGANIZER;CN="Al'Terre Breizh":http://www.breizhbook.com/profile/AlTer
 reBreizh
ATTACH;FMTTYPE="image/jpeg":http://storage.ning.com/topology/rest/1.0/
 file/get/3198331994?profile=original
ATTENDEE;ROLE=REQ-PARTICIPANT;PARTSTAT=ACCEPTED;RSVP=TRUE;CN="Al'Terre
  Breizh":http://www.breizhbook.com/profile/AlTerreBreizh
END:VEVENT
END:VCALENDAR
