BEGIN:VCALENDAR
PRODID:NingEventWidget-v1
VERSION:2.0
METHOD:PUBLISH
BEGIN:VTIMEZONE
TZID:Europe/Paris
X-LIC-LOCATION:Europe/Paris
BEGIN:DAYLIGHT
TZOFFSETFROM:+0100
TZOFFSETTO:+0200
TZNAME:CEST
DTSTART:19700329T020000
RRULE:FREQ=YEARLY;BYMONTH=3;BYDAY=-1SU
END:DAYLIGHT
BEGIN:STANDARD
TZOFFSETFROM:+0200
TZOFFSETTO:+0100
TZNAME:CET
DTSTART:19701025T030000
RRULE:FREQ=YEARLY;BYMONTH=10;BYDAY=-1SU
END:STANDARD
END:VTIMEZONE
BEGIN:VEVENT
UID:6339722:Event:132386
DTSTAMP:20260423T161157Z
SUMMARY:animations d'inauguration en \"ouverture\" de \"L'Escale\"
DESCRIPTION:quelques contes avec la médiation de mon \"Ordin@teuRàco
 nte\"... y compris, forcément (!) \"Le merle blanc et le renard\", un
 e histoire notée aux tous débuts du 20ème siècle par Adolphe Orain
  auprès de Pierre Pâtard (laboureur à la Croix-Madame) : comme quoi
  le renard peut rencontrer plus finaud que lui ; mais le Vert-Buisson 
 a beaucoup changé et n'est sans doute pas à la veille de revoir un s
 i malin merle... \"blanc\" surtout !c'est quoi l' \"Ordin@teuRàconte\
 " ?http://www.contes-et-merveilles.com/faq.php\n\nPour en savoir plus,
  rendez-vous sur http://www.breizhbook.com/events/animations-d-inaugur
 ation-en-ouverture-de-l-escale
DTSTART;TZID=Europe/Paris:20121006T000000
DTEND;TZID=Europe/Paris:20121006T235900
CATEGORIES:conte
LOCATION:Vert-Buisson, théâtre de plein air
WEBSITE:http://www.contes-et-merveilles.com/agenda.php
URL:http://www.contes-et-merveilles.com/agenda.php
CONTACT:
ORGANIZER;CN=MATHIAS:http://www.breizhbook.com/profile/MATHIAS
ATTACH;FMTTYPE="image/jpeg":http://storage.ning.com/topology/rest/1.0/
 file/get/3198324973?profile=original
ATTENDEE;ROLE=REQ-PARTICIPANT;PARTSTAT=ACCEPTED;RSVP=TRUE;CN=MATHIAS:h
 ttp://www.breizhbook.com/profile/MATHIAS
END:VEVENT
END:VCALENDAR
