BEGIN:VCALENDAR
PRODID:NingEventWidget-v1
VERSION:2.0
METHOD:PUBLISH
BEGIN:VTIMEZONE
TZID:Europe/Paris
X-LIC-LOCATION:Europe/Paris
BEGIN:DAYLIGHT
TZOFFSETFROM:+0100
TZOFFSETTO:+0200
TZNAME:CEST
DTSTART:19700329T020000
RRULE:FREQ=YEARLY;BYMONTH=3;BYDAY=-1SU
END:DAYLIGHT
BEGIN:STANDARD
TZOFFSETFROM:+0200
TZOFFSETTO:+0100
TZNAME:CET
DTSTART:19701025T030000
RRULE:FREQ=YEARLY;BYMONTH=10;BYDAY=-1SU
END:STANDARD
END:VTIMEZONE
BEGIN:VEVENT
UID:6339722:Event:117904
DTSTAMP:20260423T175358Z
SUMMARY:ANIMAL EN FETE
DESCRIPTION:de 14h30 à 18h 30 : forum d’associations nature et prot
 ection animale  Toute la journée, collecte de matériel animaux (lais
 ses, couvertures...) au profit de Rescue Bretagne  19h30 : Apéro-dîn
 atoire végétalien  20h30 : Projection-débat   \n\nPour en savoir pl
 us, rendez-vous sur http://www.breizhbook.com/events/animal-en-fete
DTSTART;TZID=Europe/Paris:20120519T143000
DTEND;TZID=Europe/Paris:20120519T230000
CATEGORIES:journée, festive, autour, de, "l'animal"
LOCATION:Place du champ de Foire à treillières
WEBSITE:http://www.animavie.org
URL:http://www.animavie.org
CONTACT:06 18 92 87 75
ORGANIZER:Animavie
ATTACH;FMTTYPE="image/jpeg":http://storage.ning.com/topology/rest/1.0/
 file/get/3198315449?profile=original
ATTENDEE;ROLE=REQ-PARTICIPANT;PARTSTAT=ACCEPTED;RSVP=TRUE;CN="Rescue B
 retagne":http://www.breizhbook.com/profile/RescueBretagne
END:VEVENT
END:VCALENDAR
