BEGIN:VCALENDAR
PRODID:NingEventWidget-v1
VERSION:2.0
METHOD:PUBLISH
BEGIN:VTIMEZONE
TZID:Europe/Paris
X-LIC-LOCATION:Europe/Paris
BEGIN:DAYLIGHT
TZOFFSETFROM:+0100
TZOFFSETTO:+0200
TZNAME:CEST
DTSTART:19700329T020000
RRULE:FREQ=YEARLY;BYMONTH=3;BYDAY=-1SU
END:DAYLIGHT
BEGIN:STANDARD
TZOFFSETFROM:+0200
TZOFFSETTO:+0100
TZNAME:CET
DTSTART:19701025T030000
RRULE:FREQ=YEARLY;BYMONTH=10;BYDAY=-1SU
END:STANDARD
END:VTIMEZONE
BEGIN:VEVENT
UID:6339722:Event:115674
DTSTAMP:20260423T175209Z
SUMMARY:Anaïs
DESCRIPTION:Attention ça tâche !\n La chanteuse Anaïs nous revient 
 avec un nouvel album \"A l'eau de javel\". Plutôt corrosif, nous anno
 nce-t-on. La chanteuse remet au goût du jour des titres des années 3
 0 aux années 60 en s'amusant à les décaper, rendant hommage à une 
 période de légèreté et d'insouciance où l'on n'avait pas peur d'o
 ser.  Accompagnée du DJ Netlik aux platines, elle se lance dans une o
 de à la liberté, avec fraîcheur et enthousiasme. Drôle , parfois c
 inglant, complètement « politically incorrect », et totalement impr
 évisible !   Album à paraiître le 5 mars : A l'eau de Javel (Polydo
 r - Universal) www.anaisinyourface.com    Billetterie en ligne (techno
 logie Digitick) et dans les points de vente habituels : Fnac, Virgin, 
 Leclerc, Géant, Carrefour, Dialogues*, Espace Vauban*... * le cas éc
 héant\n\nPour en savoir plus, rendez-vous sur http://www.breizhbook.c
 om/events/ana-s
DTSTART;TZID=Europe/Paris:20120516T203000
DTEND;TZID=Europe/Paris:20120517T000000
CATEGORIES:concert
LOCATION:La Carène
WEBSITE:http://www.lacarene.fr
URL:http://www.lacarene.fr
CONTACT:0298337070
ORGANIZER;CN="Quai ouest musiques":http://www.breizhbook.com/profile/Q
 uaiouestmusiques
ATTACH;FMTTYPE="image/jpeg":
ATTENDEE;ROLE=REQ-PARTICIPANT;PARTSTAT=ACCEPTED;RSVP=TRUE;CN="Quai oue
 st musiques":http://www.breizhbook.com/profile/Quaiouestmusiques
END:VEVENT
END:VCALENDAR
