BEGIN:VCALENDAR
PRODID:NingEventWidget-v1
VERSION:2.0
METHOD:PUBLISH
BEGIN:VTIMEZONE
TZID:Europe/Paris
X-LIC-LOCATION:Europe/Paris
BEGIN:DAYLIGHT
TZOFFSETFROM:+0100
TZOFFSETTO:+0200
TZNAME:CEST
DTSTART:19700329T020000
RRULE:FREQ=YEARLY;BYMONTH=3;BYDAY=-1SU
END:DAYLIGHT
BEGIN:STANDARD
TZOFFSETFROM:+0200
TZOFFSETTO:+0100
TZNAME:CET
DTSTART:19701025T030000
RRULE:FREQ=YEARLY;BYMONTH=10;BYDAY=-1SU
END:STANDARD
END:VTIMEZONE
BEGIN:VEVENT
UID:6339722:Event:129035
DTSTAMP:20260423T161158Z
SUMMARY:Achmad continues to be writing and submitting articles,
DESCRIPTION:Microsoft Expression term processor chip produced by 'micr
 osoft'. It was michael kors watch repair first introduced in 1983 unde
 r the name Multi-Tool Expression for Xenix techniques. This michael ko
 rs totes Click Here really is section of the Microsoft 'office' syst
 em, though the method is sold on their own and a part of Ms Works Pack
 age. Since 2003 variation of the brand has been modified to emphasize 
 the id component of Business office Term, 'microsoft' introduced lapto
 p edition, named 'microsoft office' Expression rather than Microsoft W
 ord. Variation The year 2010 looks like it's known as Ms word, once mo
 re.\nThe far more you have Microsoft Word 2007, the more likely you ar
 e out for a lot of instructions. After a few years, deciding on these 
 michael kors purse types of instructions through Lace navigation bars 
 perhaps you can monotonous, consequently Phrase enables you to determi
 ne your personal keyboard magic formula in your favorite instructions.
 \nTo allocate a new keystroke secret for you to replica michael kors h
 andbags command, you can adopt these measures:\n1. Wide cheap michael 
 kors bags Click Here open Microsoft Word 2007\n2. Click the Place of
  work Key (on top remaining). A new pull-down menu may looks.\n3. Go t
 hrough the Term Options button and the Expression Possibilities eye-po
 rt may shows up.\n4. Click Modify inside the quit lite. The saying Pos
 sibilities screen shows different Choices choices.\n5. Click the Modif
 y switch (in the bottom involving screen). Your Customize Computer key
 board dialog box appears.\n6. Visit a new tabs brand (such as Home, Pu
 t in or perhaps Web site Structure) inside Types package. macys michae
 l kors handbags Your instructions package listings all the obtainable 
 directions kept within that tabs identify. Select and then click a com
 mand inside the instructions container that you want to create it real
 ly is shortcut.\n7. Simply click within the Press Fresh Quick way Esse
 ntial textual content package. Next, click a distinctive keystroke mix
 , for example Ctrl+F8 or even Alt+7.\n8. Simply click Assign. Term may
  assigns the key stroke for a chosen command. In the event the keyboar
 d shorcut you ultimately choose is definitely given, Word can inform a
 nyone.\n9. Just click Close up then Okay.\nAchmad continues to be writ
 ing and submitting articles, training and some on the internet guides 
 for quite some time. Arrive go to his or her most recent website over 
 with [http://michaelkorswatch.net/] which provide merchandise data, pr
 ice assessment and also customer feedback about Michael Kors view [htt
 p://michaelkorswatch.net/], one of the fantastic brands within designe
 r watches and jewellery.\n\nPour en savoir plus, rendez-vous sur http:
 //www.breizhbook.com/events/achmad-continues-to-be-writing-and-submitt
 ing-articles
DTSTART;TZID=Europe/Paris:20120802T180000
DTEND;TZID=Europe/Paris:20120831T190000
CATEGORIES:birthday, party
LOCATION:London
WEBSITE:
URL:
CONTACT:
ORGANIZER;CN="willis surrey charles":http://www.breizhbook.com/profile
 /willissurreycharles
ATTACH;FMTTYPE="image/jpeg":
ATTENDEE;ROLE=REQ-PARTICIPANT;PARTSTAT=ACCEPTED;RSVP=TRUE;CN="willis s
 urrey charles":http://www.breizhbook.com/profile/willissurreycharles
END:VEVENT
END:VCALENDAR
