BEGIN:VCALENDAR
PRODID:NingEventWidget-v1
VERSION:2.0
METHOD:PUBLISH
BEGIN:VTIMEZONE
TZID:Europe/Paris
X-LIC-LOCATION:Europe/Paris
BEGIN:DAYLIGHT
TZOFFSETFROM:+0100
TZOFFSETTO:+0200
TZNAME:CEST
DTSTART:19700329T020000
RRULE:FREQ=YEARLY;BYMONTH=3;BYDAY=-1SU
END:DAYLIGHT
BEGIN:STANDARD
TZOFFSETFROM:+0200
TZOFFSETTO:+0100
TZNAME:CET
DTSTART:19701025T030000
RRULE:FREQ=YEARLY;BYMONTH=10;BYDAY=-1SU
END:STANDARD
END:VTIMEZONE
BEGIN:VEVENT
UID:6339722:Event:111908
DTSTAMP:20260423T181325Z
SUMMARY:ABBA REVOLUTION
DESCRIPTION:Abba revisité par les élèves de La Luciole, école des 
 musiques actuelles à Brest.\nBillets en vente à La Luciole : \nUNE 
 PLACE ACHETÉE = UNE PLACE OFFERTE!! \n20€ (tarif plein)\n18€ (
 tarif réduit, CE + élèves de La Luciole)\n15€ ( - de 12 ans)\n\nR
 enseignements au 02.98.05.21.92 www.laluciole-brest.com\n\n\nPour en s
 avoir plus, rendez-vous sur http://www.breizhbook.com/events/abba-revo
 lution
DTSTART;TZID=Europe/Paris:20120421T203000
DTEND;TZID=Europe/Paris:20120422T120000
CATEGORIES:concert
LOCATION:Parc des expositions Penfeld
WEBSITE:http://www.laluciole-brest.com/Accueil.html
URL:http://www.laluciole-brest.com/Accueil.html
CONTACT:02.98.05.21.92
ORGANIZER;CN="Luciole Brest":http://www.breizhbook.com/profile/Luciole
 Brest
ATTACH;FMTTYPE="image/jpeg":http://storage.ning.com/topology/rest/1.0/
 file/get/3198309968?profile=original
ATTENDEE;ROLE=REQ-PARTICIPANT;PARTSTAT=ACCEPTED;RSVP=TRUE;CN="Luciole 
 Brest":http://www.breizhbook.com/profile/LucioleBrest
END:VEVENT
END:VCALENDAR
