BEGIN:VCALENDAR
PRODID:NingEventWidget-v1
VERSION:2.0
METHOD:PUBLISH
BEGIN:VTIMEZONE
TZID:Europe/Paris
X-LIC-LOCATION:Europe/Paris
BEGIN:DAYLIGHT
TZOFFSETFROM:+0100
TZOFFSETTO:+0200
TZNAME:CEST
DTSTART:19700329T020000
RRULE:FREQ=YEARLY;BYMONTH=3;BYDAY=-1SU
END:DAYLIGHT
BEGIN:STANDARD
TZOFFSETFROM:+0200
TZOFFSETTO:+0100
TZNAME:CET
DTSTART:19701025T030000
RRULE:FREQ=YEARLY;BYMONTH=10;BYDAY=-1SU
END:STANDARD
END:VTIMEZONE
BEGIN:VEVENT
UID:6339722:Event:121388
DTSTAMP:20260423T175300Z
SUMMARY:Abadenn ar Vugale
DESCRIPTION:Le 17/06/2012 à ChâteaulinFETE ENFANTS KENDALC’H ABADE
 NN AR VUGALE« Quand les enfants tiennent la scène »C’est l’occa
 sion d’un grand rassemblement des groupes d’enfants Kendalc’h du
  Finistère9 groupes sont programmés : Le Faou, Kerfeunteun, Carhaix
 , Guissény, Landerneau, Saint Evarzec, Châteaulin, Sizun, Plougastel
  Ce qui fait environ 350 participants. Cette fête clôture une anné
 e de travail, les enfants seront heureux de présenter sur scène leur
  réalisation chorégraphique de l’année. Ils ont déjà eu l’occ
 asion de se rencontrer lors de stages à Noël  pour les plus jeunes 
 en février pour les plus grands, et lors de journées culturelles ré
 créatives.La fête se déroule à Châteaulin au gymnase du lycée Sa
 int Louis.Programme 11h défilé des groupes dans Châteaulin14h à 18
 h suites chorégraphiques des 9 cercles  suivies de la « danse des 1
 000 » : aéroplane deLouvigné du désert.Entrée 5€, gratuit jusqu
 ’à 12 ans, les tickets donnent droit à participer à une tombola.D
 es activités sont organisées dans l’après-midi : Broderie, dessi
 ns celtiques, activités manuelles auxquelles peuvent participer les e
 nfants aussi bien des groupes que spectateurs.\n\nPour en savoir plus,
  rendez-vous sur http://www.breizhbook.com/events/abadenn-ar-vugale
DTSTART;TZID=Europe/Paris:20120617T110000
DTEND;TZID=Europe/Paris:20120617T180000
CATEGORIES:spectacle, cercles, celtiques, enfants
LOCATION:Espace Coatigrac'h
WEBSITE:
URL:
CONTACT:
ORGANIZER:Kendalc'h Penn ar Bed
ATTACH;FMTTYPE="image/jpeg":http://storage.ning.com/topology/rest/1.0/
 file/get/3198318343?profile=original
ATTENDEE;ROLE=REQ-PARTICIPANT;PARTSTAT=ACCEPTED;RSVP=TRUE;CN="Rosmordu
 c Youenn":http://www.breizhbook.com/profile/ROSMORDUC
END:VEVENT
END:VCALENDAR
