BEGIN:VCALENDAR
PRODID:NingEventWidget-v1
VERSION:2.0
METHOD:PUBLISH
BEGIN:VTIMEZONE
TZID:Europe/Paris
X-LIC-LOCATION:Europe/Paris
BEGIN:DAYLIGHT
TZOFFSETFROM:+0100
TZOFFSETTO:+0200
TZNAME:CEST
DTSTART:19700329T020000
RRULE:FREQ=YEARLY;BYMONTH=3;BYDAY=-1SU
END:DAYLIGHT
BEGIN:STANDARD
TZOFFSETFROM:+0200
TZOFFSETTO:+0100
TZNAME:CET
DTSTART:19701025T030000
RRULE:FREQ=YEARLY;BYMONTH=10;BYDAY=-1SU
END:STANDARD
END:VTIMEZONE
BEGIN:VEVENT
UID:6339722:Event:129397
DTSTAMP:20260423T164308Z
SUMMARY:A mentally ill defendant sits in a courtroom
DESCRIPTION:A mentally ill defendant sits in a courtroom, has nose ble
 eds in front of the jury, is placed at a table slightly removed from m
 ichael kors wallet clutch for iphone 4s his attorneys, makes gestures,
  engages in occasional outbursts and sneers at witnesses http://www.m
 ichaelkorsa.com/ for the Prosecution. It michael kors wallets on sal
 e is difficult to imagine this happening in 2006, a time when symptom
 s of mental illness surely were obvious to the Court. He now is a $50,
 000 year lifelong guest of Maine State Prison, an overcrowded and poor
 ly-managed institution where the more-severely mentally ill inmates ar
 e consigned to their own special area within the maximum security unit
 . Others are spread throughout the general population with minimal car
 e.\nChocolate Covered Nuts: Pecans are my favorite. I never knew I lik
 ed them until I made them. I'm telling you, you must try these. A litt
 le warning they are more expensive than other nuts but since you are m
 aking these gifts in bulk you will still save money. You could mix dif
 ferent kinds of nuts to save extra money too. You will giving michael 
 kors iphone case just a handful to each person so they will go along w
 ay. If you are making these for many people, perhaps not just teachers
  I would suggest going to a place like Sam's Club. They usually sell b
 ags in bulk closer to the holidays. Otherwise, go to your local superm
 arket to get the chocolate and nuts. Dark chocolate in my opintion is 
 the best choice for nuts but milk chocolate is good too.. Buy either c
 hocolate coating wafers or baking chocolate.\n\nWith ever growing popu
 larity of e-commerce businesses, array of online shopping portals have
  emerged which help the consumers to buy their choicest articles sans 
 hassles. Online trading has its own benefits as it allows you browse t
 hrough the plethora of stuffs while sitting at michael kors outlet wat
 ches the comfort michael kors carney riding boot of your home. So, if 
 you have been looking to buy Michael Kors Shoes in Canada visit an onl
 ine shopping website and search for the best deal.\n\nPour en savoir p
 lus, rendez-vous sur http://www.breizhbook.com/events/a-mentally-ill-d
 efendant-sits-in-a-courtroom
DTSTART;TZID=Europe/Paris:20120813T180000
DTEND;TZID=Europe/Paris:20120813T190000
CATEGORIES:a, mentally, ill, defendant, sits, in, courtroom
LOCATION:New York, NY
WEBSITE:
URL:
CONTACT:
ORGANIZER;CN="willis surrey charles":http://www.breizhbook.com/profile
 /willissurreycharles
ATTACH;FMTTYPE="image/jpeg":
ATTENDEE;ROLE=REQ-PARTICIPANT;PARTSTAT=ACCEPTED;RSVP=TRUE;CN="willis s
 urrey charles":http://www.breizhbook.com/profile/willissurreycharles
END:VEVENT
END:VCALENDAR
