BEGIN:VCALENDAR
PRODID:NingEventWidget-v1
VERSION:2.0
METHOD:PUBLISH
BEGIN:VTIMEZONE
TZID:Europe/Paris
X-LIC-LOCATION:Europe/Paris
BEGIN:DAYLIGHT
TZOFFSETFROM:+0100
TZOFFSETTO:+0200
TZNAME:CEST
DTSTART:19700329T020000
RRULE:FREQ=YEARLY;BYMONTH=3;BYDAY=-1SU
END:DAYLIGHT
BEGIN:STANDARD
TZOFFSETFROM:+0200
TZOFFSETTO:+0100
TZNAME:CET
DTSTART:19701025T030000
RRULE:FREQ=YEARLY;BYMONTH=10;BYDAY=-1SU
END:STANDARD
END:VTIMEZONE
BEGIN:VEVENT
UID:6339722:Event:179903
DTSTAMP:20260423T164046Z
SUMMARY:A la découverte des classes bilingues français-breton de Bru
 z
DESCRIPTION:Exposition à la mairie de Bruz consacrée à la filière 
 bilingue français-breton et Portes Ouvertes des classes bilingues de 
 Bruz\n -> Diskouezadeg / Exposition  Div Yezh Bruz a le plaisir de vou
 s convier du 27/05 au 08/06 à l'exposition à la mairie de Bruz consa
 crée à la filière bilingue breton-français.  Les classes bilingues
  offrent une pratique quotidienne des 2 langues, avec un enseignant bi
 lingue, qui suit les programmes officiels.  Toutes les études réalis
 ées par les linguistes démontrent que ce type d'enseignement favoris
 e le développement global de l'enfant en cohérence avec son environn
 ement culturel, social et affectif  - Je ne connais pas le breton, est
 -ce un problème? Et la langue vivante étrangère ?...  Retrouvez dè
 s maintenant une partie des réponses à vos interrogations sur le sit
 e de Div Yezh Bruz http://divyezh.bruz.free.fr  -> Dorioù Digor / Por
 tes Ouvertes  Les 2ième portes-ouvertes des classes bilingues de Bruz
  ont lieu le samedi matin 8 juin 2013 de 9h30 à 12h00 et une visite d
 'école est également proposée à la maternelle de Jacques Prévert 
 le 11 juin 2013 de 18h00 à 19h00.  Les enseignants bilingues ainsi qu
 e l'association de parents d'élèves Div Yezh Bruz seront présents p
 our répondre à vos questions sur l'enseignement bilingue public bret
 on - français.  Venez nombreux à partager ce moment convivial !  Pou
 r l'inscription en classe bilingue, il n'est pas nécessaire d'habiter
  le secteur de l'école. Les enfants de toutes les communes peuvent al
 ors être accueillis dans la filière bilingue.\n Cette filière est u
 ne réelle chance pour votre enfant ! Saisissez-là\n\nPour en savoir 
 plus, rendez-vous sur http://www.breizhbook.com/events/a-la-d-couverte
 -des-classes-bilingues-fran-ais-breton-de-bruz
DTSTART;TZID=Europe/Paris:20130527T000000
DTEND;TZID=Europe/Paris:20130608T000000
CATEGORIES:exposition, portes-ouvertes
LOCATION:Mairie de Bruz
WEBSITE:http://divyezh.bruz.free.fr
URL:http://divyezh.bruz.free.fr
CONTACT:0661732892
ORGANIZER;CN="Div Yezh Bruz":http://www.breizhbook.com/profile/DivYezh
 Bruz
ATTACH;FMTTYPE="image/jpeg":http://storage.ning.com/topology/rest/1.0/
 file/get/3198355608?profile=original
ATTENDEE;ROLE=REQ-PARTICIPANT;PARTSTAT=ACCEPTED;RSVP=TRUE;CN="Div Yezh
  Bruz":http://www.breizhbook.com/profile/DivYezhBruz
END:VEVENT
END:VCALENDAR
