BEGIN:VCALENDAR
PRODID:NingEventWidget-v1
VERSION:2.0
METHOD:PUBLISH
BEGIN:VTIMEZONE
TZID:Europe/Paris
X-LIC-LOCATION:Europe/Paris
BEGIN:DAYLIGHT
TZOFFSETFROM:+0100
TZOFFSETTO:+0200
TZNAME:CEST
DTSTART:19700329T020000
RRULE:FREQ=YEARLY;BYMONTH=3;BYDAY=-1SU
END:DAYLIGHT
BEGIN:STANDARD
TZOFFSETFROM:+0200
TZOFFSETTO:+0100
TZNAME:CET
DTSTART:19701025T030000
RRULE:FREQ=YEARLY;BYMONTH=10;BYDAY=-1SU
END:STANDARD
END:VTIMEZONE
BEGIN:VEVENT
UID:6339722:Event:299301
DTSTAMP:20260423T162801Z
SUMMARY:Ã§a \"cause\" et Ã§a CONTE au \"Mod KOZ\" !
DESCRIPTION:2 rdv contÃ©s sur Rennesau Mod KOZ, 3 bis rue Jean Marie D
 uhamel (ex bar Scaramouche)Mercredi 11 mars, de 19h30 jusque...Mercred
 i 15 avril, de 19h30 jusque...SoirÃ©e-veillÃ©e animÃ©e par Jean-Pierre
  Mathias : merveilles et clins d'Å“il complices avec les personnes prÃ
 ©sentes, pour le bonheur de quelques rÃªves en partage, notamment puis
 Ã©s aux meilleures sources de la TRADition populaire de haute Bretagne
 . KOZ-cause... des histoires du temps que les bÃªtes parlaient, un peu
  aussi de la langue des oiseaux... lÃ©gendaire de Saint Ã‰loi pÃ¨re d'
 Oculi (fÃªtÃ© le 9 mars)... nous nous laisserons inspirer !Conteur pro
 fessionnel breton, Jean-Pierre MATHIAS rÃ©-anime, pour tous publics, d
 es contes et lÃ©gendes de tradition populaire.30 ans de conte, en amat
 eur d'abord, en professionnel depuis 2007... Ã  60 ans bientÃ´t Jean-P
 ierre Mathias transpire les contes comme la vie fait son Å“uvre. Trade
 ur de cont' redits, essentiellement puisÃ©s aux sources de l'oralitÃ© 
 de haute Bretagne, il aime Ã  partager avec les publics d'Ã¢ges mÃªlÃ©
 s. Les merveilles fÃ©eriques ont sa prÃ©dilection, le plus souvent tei
 ntÃ©es d'un brin d'humour complice ; glissant ici-et-lÃ  des pÃ©pites 
 de modernitÃ© et autres actualitÃ©s, il donne aux contes intemporels u
 ne soudaine proximitÃ©... qui rÃ©veille les somnolents !http://www.con
 tes-et-merveilles.com/agenda.phphttps://www.facebook.com/pages/MOD-KOZ
 /1439307649661263\n\nPour en savoir plus, rendez-vous sur http://www.b
 reizhbook.com/events/a-cause-et-a-conte-au-mod-koz
DTSTART;TZID=Europe/Paris:20150311T193000
DTEND;TZID=Europe/Paris:20150311T230000
CATEGORIES:veillÃ©e, conte
LOCATION:Mod KOZ, bar
WEBSITE:http://www.contes-et-merveilles.com/agenda.php
URL:http://www.contes-et-merveilles.com/agenda.php
CONTACT:
ORGANIZER;CN=MATHIAS:http://www.breizhbook.com/profile/MATHIAS
ATTACH;FMTTYPE="image/jpeg":http://storage.ning.com/topology/rest/1.0/
 file/get/3198388074?profile=original
ATTENDEE;ROLE=REQ-PARTICIPANT;PARTSTAT=ACCEPTED;RSVP=TRUE;CN=MATHIAS:h
 ttp://www.breizhbook.com/profile/MATHIAS
END:VEVENT
END:VCALENDAR
