BEGIN:VCALENDAR
PRODID:NingEventWidget-v1
VERSION:2.0
METHOD:PUBLISH
BEGIN:VTIMEZONE
TZID:Europe/Paris
X-LIC-LOCATION:Europe/Paris
BEGIN:DAYLIGHT
TZOFFSETFROM:+0100
TZOFFSETTO:+0200
TZNAME:CEST
DTSTART:19700329T020000
RRULE:FREQ=YEARLY;BYMONTH=3;BYDAY=-1SU
END:DAYLIGHT
BEGIN:STANDARD
TZOFFSETFROM:+0200
TZOFFSETTO:+0100
TZNAME:CET
DTSTART:19701025T030000
RRULE:FREQ=YEARLY;BYMONTH=10;BYDAY=-1SU
END:STANDARD
END:VTIMEZONE
BEGIN:VEVENT
UID:6339722:Event:209278
DTSTAMP:20260423T175210Z
SUMMARY:9dot8 section échasses urbaines
DESCRIPTION:http://9dot8.com/\nLa reprise des cours aura lieu le mardi
  17 septembre 2013 à 18h, à la salle Andre Fresnais - Rue Michel Ger
 ard, 35000 Rennes. ( Skate Park de la Poterie )\nLors de cette séance
 , nous vous expliquerons l'organisation, le deroulement des cours et r
 éaliserons les inscriptions.\nLa présence d'un adulte résponsable d
 u futur adhérent(e) mineur, est obligatoire.\nNous vous expliquerons 
 le fonctionnement lors de ce 1er cours. \n\nPour en savoir plus, rend
 ez-vous sur http://www.breizhbook.com/events/9dot8-section-chasses-urb
 aines
DTSTART;TZID=Europe/Paris:20130914T000000
DTEND;TZID=Europe/Paris:20130915T235900
CATEGORIES:vital, sport
LOCATION:Betton
WEBSITE:
URL:
CONTACT:
ORGANIZER;CN="Anthony Allain":http://www.breizhbook.com/profile/Anthon
 yAllain
ATTACH;FMTTYPE="image/jpeg":http://storage.ning.com/topology/rest/1.0/
 file/get/3198360667?profile=original
ATTENDEE;ROLE=REQ-PARTICIPANT;PARTSTAT=ACCEPTED;RSVP=TRUE;CN="Anthony 
 Allain":http://www.breizhbook.com/profile/AnthonyAllain
END:VEVENT
END:VCALENDAR
