BEGIN:VCALENDAR
PRODID:NingEventWidget-v1
VERSION:2.0
METHOD:PUBLISH
BEGIN:VTIMEZONE
TZID:Europe/Paris
X-LIC-LOCATION:Europe/Paris
BEGIN:DAYLIGHT
TZOFFSETFROM:+0100
TZOFFSETTO:+0200
TZNAME:CEST
DTSTART:19700329T020000
RRULE:FREQ=YEARLY;BYMONTH=3;BYDAY=-1SU
END:DAYLIGHT
BEGIN:STANDARD
TZOFFSETFROM:+0200
TZOFFSETTO:+0100
TZNAME:CET
DTSTART:19701025T030000
RRULE:FREQ=YEARLY;BYMONTH=10;BYDAY=-1SU
END:STANDARD
END:VTIMEZONE
BEGIN:VEVENT
UID:6339722:Event:79699
DTSTAMP:20260423T164311Z
SUMMARY:30 ème Edition de la Course de Côte de Loc-Eguiner - Landivi
 siau - Automobiles
DESCRIPTION:30 ème Edition le dimanche 20 mai 2012 - Venez nombreux a
 ssister aux montées des fabuleuses voitures de course - Un beau spect
 acle en prévision. Seule édition Finistèrienne.\n\nPour en savoir p
 lus, rendez-vous sur http://www.breizhbook.com/events/30-me-edition-de
 -la-course-de-c-te-de-loc-eguiner-landivisiau
DTSTART;TZID=Europe/Paris:20120520T080000
DTEND;TZID=Europe/Paris:20120520T190000
CATEGORIES:sport, automobile
LOCATION:Lieu de l'épreuve Loc-Eguiner, en bas de la gare de Landivis
 iau.
WEBSITE:
URL:
CONTACT:
ORGANIZER;CN="Course de Côte Loc-Eguiner":http://www.breizhbook.com/p
 rofile/CoursedeCoteLocEguiner
ATTACH;FMTTYPE="image/jpeg":
ATTENDEE;ROLE=REQ-PARTICIPANT;PARTSTAT=ACCEPTED;RSVP=TRUE;CN="Course d
 e Côte Loc-Eguiner":http://www.breizhbook.com/profile/CoursedeCoteLoc
 Eguiner
END:VEVENT
END:VCALENDAR
