BEGIN:VCALENDAR
PRODID:NingEventWidget-v1
VERSION:2.0
METHOD:PUBLISH
BEGIN:VTIMEZONE
TZID:Europe/Paris
X-LIC-LOCATION:Europe/Paris
BEGIN:DAYLIGHT
TZOFFSETFROM:+0100
TZOFFSETTO:+0200
TZNAME:CEST
DTSTART:19700329T020000
RRULE:FREQ=YEARLY;BYMONTH=3;BYDAY=-1SU
END:DAYLIGHT
BEGIN:STANDARD
TZOFFSETFROM:+0200
TZOFFSETTO:+0100
TZNAME:CET
DTSTART:19701025T030000
RRULE:FREQ=YEARLY;BYMONTH=10;BYDAY=-1SU
END:STANDARD
END:VTIMEZONE
BEGIN:VEVENT
UID:6339722:Event:128154
DTSTAMP:20260423T181837Z
SUMMARY:2010 is here so if you feel seeking to get a single
DESCRIPTION:2010 is here so if you feel seeking to get a single for th
 is future summer season, or maybe you want one at thisĀ Toms CordonesĀ
  time, you are before long likely to find out there are some of them o
 ut there thatĀ cheap toms for saleĀ you could select from. How the hec
 k toms ballet flats sale can you pick one out and about that is going 
 to meet your needs?\nIf you're using a tough time picking cheap toms f
 or kids one particular away, I needed to provide you with my top five 
 checklist. My partner and i bottom this kind of record about testimoni
 als, characteristics, along with sturdiness. You will desire something
  that will last. The very last thing that you might want to perform wi
 ll be buy something with regard to $60, own it bust, of course, if you
  will need to go out, and get 1 once again.\nThe top 5 remote control 
 auto starters in 2010...\nBulldog RS1100: Fantastic evaluations, it re
 ally is underneath $45, and several customers online state that this o
 ne is rather very easy to install. For those that are afraid of instal
 lment, I would look at this one particular.\nPrestige Style APS920: A 
 better view inside cost, nevertheless you'll receive whatever you buy.
  Wonderful features, along with great variety.\nAVITAL 5303L: Excellen
 t Liquid crystal display screen being a key chain. It offer stability,
  in addition to consists of a new nice wipe out. I can't discover weig
 ht loss program these.\nCar Alarm 800f3: One more package which comes 
 built with a motor vehicle alarm, as well as a basic starter kit. Fant
 astic testimonials, as well as built toms promo code april with anti-s
 can technological innovation.\nCar Security alarm Distant KMT-FM2: The
  very last certainly one of my personal cheapest toms shoes online che
 cklist which has a pretty clever design and style. Fantastic online re
 views cand belong to you for less than $100.\nThe remote control autom
 obile beginners list continues on my own best list. Acquire testimonia
 ls, updates, a great a lot more!\n\nPour en savoir plus, rendez-vous s
 ur http://www.breizhbook.com/events/2010-is-here-so-if-you-feel-seekin
 g-to-get-a-single
DTSTART;TZID=Europe/Paris:20120719T180000
DTEND;TZID=Europe/Paris:20120719T190000
CATEGORIES:birthday, party
LOCATION:å ęæå¤§
WEBSITE:
URL:
CONTACT:
ORGANIZER;CN="willis surrey charles":http://www.breizhbook.com/profile
 /willissurreycharles
ATTACH;FMTTYPE="image/jpeg":
ATTENDEE;ROLE=REQ-PARTICIPANT;PARTSTAT=ACCEPTED;RSVP=TRUE;CN="willis s
 urrey charles":http://www.breizhbook.com/profile/willissurreycharles
END:VEVENT
END:VCALENDAR
