BEGIN:VCALENDAR
PRODID:NingEventWidget-v1
VERSION:2.0
METHOD:PUBLISH
BEGIN:VTIMEZONE
TZID:Europe/Paris
X-LIC-LOCATION:Europe/Paris
BEGIN:DAYLIGHT
TZOFFSETFROM:+0100
TZOFFSETTO:+0200
TZNAME:CEST
DTSTART:19700329T020000
RRULE:FREQ=YEARLY;BYMONTH=3;BYDAY=-1SU
END:DAYLIGHT
BEGIN:STANDARD
TZOFFSETFROM:+0200
TZOFFSETTO:+0100
TZNAME:CET
DTSTART:19701025T030000
RRULE:FREQ=YEARLY;BYMONTH=10;BYDAY=-1SU
END:STANDARD
END:VTIMEZONE
BEGIN:VEVENT
UID:6339722:Event:177375
DTSTAMP:20260423T164550Z
SUMMARY:2ème Coeur de Cox solidaire Autos/Motos anciennes et de prest
 ige
DESCRIPTION:Au profit de l'association \" Bats toi Florent ! \"   Flor
 ent a 21 ans il habite Landivisiau (29) c'est un danseur de hip-hop, r
 ugbyman, et futur mécanicien auto, suite a un accident de la route en
  février 2010, il est aujourd'hui aphasique (ne parle pas) et tétrap
 légique .  Le but de cette seconde édition sera d'aider à financer 
 son fauteuil roulant verticalisateur (42 000€) ou tout autre besoin 
 qui pourrait lui apporter du bien-être. L'édition sera également ba
 sée sur la sensibilisation à la Prévention Routière.  * Meeting de
  véhicules anciens autos/ 2 roues toute marque et tout type dits de c
 ollection et/ou d’exception (autos, motos, cyclo, utilitaires, sport
 ifs, modernes, ou tout autre engin à moteur). Tuning exclu  Capacité
  accueil : 200 à 300 véhicules MAX/ j. -----------------------------
 ------------------------------------------------ Participants véhicul
 es :          ********* - Camping GRATUIT libre sur place pou
 r les bénévoles et véhicules inscrits (stade de foot, avec sanitair
 es& douches à dispo) - Café de bienvenue - Bar & Restauration sur pl
 ace - Balade touristique samedi & dimanche - Animations /concours /Dé
 fis - Top 10 - Samedi soir: 1 apéro offert+ Concert ( inclus pour les
  inscrits) - Petit dej' dimanche offert  Inscriptions limitées et pay
 ables d'avance : Motos / 2 roues : 5 €/casque 1j ou 7€/casque WE V
 éhicules : 10 €/ véhicule ou 15€ / WE ; Possibilité arrivée le
  16/08 APM et départ le 19 avant midi pour les inscrits. (non payant 
 arrivée16/départ19) ------------------------------------------------
 ---------------------------- Visiteurs : ******* Entrée : 2€ / j/ g
 ratuit - 14 ans (concert non inclus) Concert Dom DufF : 10€/ place g
 ratuit -14 ans. http://www.domduff.com/ ------------------------------
 ---------------------------------------------- Merci à tous pour Flor
 ent. Merci de partager l'événement! Solidairement, L'équipe Cœur d
 e Cox. + d'infos & Inscriptions via un formulaire en ligne sur notre s
 ite :  http://www.coeur2cox-bzh.com/ Inscription participant ici --> h
 ttp://www.coeur2cox-bzh.com/inscription-meeting-2013-pour-bats-toi-flo
 rent-.php Inscription bénévole ici --> http://www.coeur2cox-bzh.com/
 formulaire-inscription-benevole-2013.php Association Coeur de Cox 2, A
 llée des Peupliers 29550 PLONEVEZ-PORZAY\n\nPour en savoir plus, rend
 ez-vous sur http://www.breizhbook.com/events/2-me-coeur-de-cox-solidai
 re-autos-motos-anciennes-et-de-prestige
DTSTART;TZID=Europe/Paris:20130817T080000
DTEND;TZID=Europe/Paris:20130818T200000
CATEGORIES:meeting, solidaire, collecte, de, dons
LOCATION:Terrain de foot
WEBSITE:http://www.coeur2cox-bzh.com/
URL:http://www.coeur2cox-bzh.com/
CONTACT:0660794411
ORGANIZER;CN="Coeur de Cox_ Association":http://www.breizhbook.com/pro
 file/CoeurdeCoxAssociation
ATTACH;FMTTYPE="image/jpeg":http://storage.ning.com/topology/rest/1.0/
 file/get/3198355342?profile=original
ATTENDEE;ROLE=REQ-PARTICIPANT;PARTSTAT=ACCEPTED;RSVP=TRUE;CN="Coeur de
  Cox_ Association":http://www.breizhbook.com/profile/CoeurdeCoxAssocia
 tion
END:VEVENT
END:VCALENDAR
