BEGIN:VCALENDAR
PRODID:NingEventWidget-v1
VERSION:2.0
METHOD:PUBLISH
BEGIN:VTIMEZONE
TZID:Europe/Paris
X-LIC-LOCATION:Europe/Paris
BEGIN:DAYLIGHT
TZOFFSETFROM:+0100
TZOFFSETTO:+0200
TZNAME:CEST
DTSTART:19700329T020000
RRULE:FREQ=YEARLY;BYMONTH=3;BYDAY=-1SU
END:DAYLIGHT
BEGIN:STANDARD
TZOFFSETFROM:+0200
TZOFFSETTO:+0100
TZNAME:CET
DTSTART:19701025T030000
RRULE:FREQ=YEARLY;BYMONTH=10;BYDAY=-1SU
END:STANDARD
END:VTIMEZONE
BEGIN:VEVENT
UID:6339722:Event:205871
DTSTAMP:20260423T180113Z
SUMMARY:1er vide greniers mensuel en Kreiz Breizh
DESCRIPTION:Les 7 et 8 Septembre aura lieu le 1er vide greniers mensue
 l, il sera renouvelé tous les deuxième week-end de chaque mois.Dans 
 un hangar de 400 m2 à l'abri des intempéries. Particuliers et profes
 sionnels. Accueil langue des signes.\n\nPour en savoir plus, rendez-vo
 us sur http://www.breizhbook.com/events/1er-vide-greniers-mensuel-en-k
 reiz-breizh
DTSTART;TZID=Europe/Paris:20130907T090000
DTEND;TZID=Europe/Paris:20130908T180000
CATEGORIES:vide-, greniers
LOCATION:5 € ML
WEBSITE:http://reemploibretagne22@onlc.fr
URL:http://reemploibretagne22@onlc.fr
CONTACT:06 59 05 12 31
ORGANIZER;CN="Réémploi Bretagne":http://www.breizhbook.com/profile/A
 ccesimagebeaute
ATTACH;FMTTYPE="image/jpeg":
ATTENDEE;ROLE=REQ-PARTICIPANT;PARTSTAT=ACCEPTED;RSVP=TRUE;CN="Réémpl
 oi Bretagne":http://www.breizhbook.com/profile/Accesimagebeaute
END:VEVENT
END:VCALENDAR
