BEGIN:VCALENDAR
PRODID:NingEventWidget-v1
VERSION:2.0
METHOD:PUBLISH
BEGIN:VTIMEZONE
TZID:Europe/Paris
X-LIC-LOCATION:Europe/Paris
BEGIN:DAYLIGHT
TZOFFSETFROM:+0100
TZOFFSETTO:+0200
TZNAME:CEST
DTSTART:19700329T020000
RRULE:FREQ=YEARLY;BYMONTH=3;BYDAY=-1SU
END:DAYLIGHT
BEGIN:STANDARD
TZOFFSETFROM:+0200
TZOFFSETTO:+0100
TZNAME:CET
DTSTART:19701025T030000
RRULE:FREQ=YEARLY;BYMONTH=10;BYDAY=-1SU
END:STANDARD
END:VTIMEZONE
BEGIN:VEVENT
UID:6339722:Event:210901
DTSTAMP:20260423T182226Z
SUMMARY:1er congres europÃ©en Ã  Rennes de Wor(l)d NRG !!  (places enc
 ore disponibles!!)
DESCRIPTION:MalgrÃ© que je dÃ©nonce toutes les dÃ©rives de nos chers Ã
 ©lus et du reste, j'apporte aussi des solutions avec preuves Ã  l'appu
 ie :\n*Aujourd'hui* depuis votre fauteuil, votre lit, avec un outil ap
 pelÃ© ordinateur, vous pouvez devenir *copropriÃ©taire* de la plus gra
 nde centrale d'Ã©nergie propre au monde !!!\n*Franchement si j'ai un c
 onseil Ã  vous donner*, c'est de venir Ã  Rennes ce week-end pour voir
  le premier congrÃ¨s EuropÃ©en de WOR(L)D NRG !\nPourquoi la France et
  EN FRANCE ?\nEt bien contrairement aux idÃ©es reÃ§ues, *les franÃ§ais
  sont NÂ°1 actuellement* en ce qui concerne le nombre de personnes ame
 nÃ©es et surtout le C.A. rÃ©alisÃ© !\nAlors peut-Ãªtre que certains di
 sent que les \"autres\" ne font rien, mais en ce qui me concerne je pr
 Ã©fÃ¨re dire : tout dÃ©pend de comment cela est prÃ©sentÃ© ! ! !\nAlor
 s je vous invite Ã  me donner votre mail en MP pour Ãªtre invitÃ© Ã  u
 ne prÃ©sentation qui est prÃ©sentÃ© par mon sponsor. Non pas parce qu'
 il est le mien, mais tout simplement parce que c'est fait avec *profes
 sionnalisme* ! ! !\nVous avez l'info, maintenant Ã  vous d'agir.\n\nDe
 s places encore disponibles !!!\n\n\n\n#energie #renouvelable #solaire
  #worldnrg #centrale #copropriÃ©taire #durable\n\nPour en savoir plus,
  rendez-vous sur http://www.breizhbook.com/events/1er-congres-europ-en
 -rennes-de-wor-l-d-nrg
DTSTART;TZID=Europe/Paris:20131005T130000
DTEND;TZID=Europe/Paris:20131005T190000
CATEGORIES:congrÃ¨s, confÃ©rence
LOCATION:Rennes
WEBSITE:
URL:
CONTACT:
ORGANIZER;CN="Anthony Worlder":http://www.breizhbook.com/profile/Antho
 nyWorlder
ATTACH;FMTTYPE="image/jpeg":http://storage.ning.com/topology/rest/1.0/
 file/get/3198360691?profile=original
ATTENDEE;ROLE=REQ-PARTICIPANT;PARTSTAT=ACCEPTED;RSVP=TRUE;CN="Anthony 
 Worlder":http://www.breizhbook.com/profile/AnthonyWorlder
END:VEVENT
END:VCALENDAR
