BEGIN:VCALENDAR
PRODID:NingEventWidget-v1
VERSION:2.0
METHOD:PUBLISH
BEGIN:VTIMEZONE
TZID:Europe/Paris
X-LIC-LOCATION:Europe/Paris
BEGIN:DAYLIGHT
TZOFFSETFROM:+0100
TZOFFSETTO:+0200
TZNAME:CEST
DTSTART:19700329T020000
RRULE:FREQ=YEARLY;BYMONTH=3;BYDAY=-1SU
END:DAYLIGHT
BEGIN:STANDARD
TZOFFSETFROM:+0200
TZOFFSETTO:+0100
TZNAME:CET
DTSTART:19701025T030000
RRULE:FREQ=YEARLY;BYMONTH=10;BYDAY=-1SU
END:STANDARD
END:VTIMEZONE
BEGIN:VEVENT
UID:6339722:Event:174989
DTSTAMP:20260423T164640Z
SUMMARY:14ème Festival du Bout du Monde
DESCRIPTION:Vendredi 2 août\nOndatrópica (Colombie)Boulevard des Air
 s (France)Shantel & Bucovina Club Orkestar (Allemagne-Roumanie)Yasmin 
 Levy (Israël)La Troba Kung-Fu (Catalogne)Joe Cocker (GB)Sandra Nkaké
  (France-Cameroun)Ska-P (Espagne)+ Artiste invitée : une des plus bel
 les voix de l’Afrique de l’Ouest\nSamedi 3 aoûtAmparo Sanchez (Es
 pagne)Cali (France)Ebo Taylor (Ghana)Shibusa Shirazu Orchestra (Japon)
 Taj Mahal (USA)Criolo (Brésil)Terakaft (Mali)Gaël Faye (France-Burun
 di)Manu Dibango Soul Makossa Gang & Cheick Tidiane Seck (Cameroun-Mali
 )Haris Pilton & Gypsy Sound System (Suisse-Slovénie)+ 2 groupes invit
 és\nDimanche 4 août77 Bombay street(Suisse-Australie)La Rue Kétanou
  (France)Souljazz Orchestra (Canada)Jacques Higelin (France)Ray Lema &
  l’Orchestre Symphonique Universitaire de Brest (Congo-Brest)Israël
  Vibration (Jamaïque)Lyannaj (Bretagne-Guadeloupe)Mélissa Laveaux (C
 anada-Haïti)Kool & the Gang (USA)\n+ 1 groupe invité\n\nPour en savo
 ir plus, rendez-vous sur http://www.breizhbook.com/events/14-me-festiv
 al-du-bout-du-monde
DTSTART;TZID=Europe/Paris:20130802T000000
DTEND;TZID=Europe/Paris:20130804T235900
CATEGORIES:festival
LOCATION:Presqu'île de Crozon
WEBSITE:http://www.festivalduboutdumonde.com
URL:http://www.festivalduboutdumonde.com
CONTACT:0298270032
ORGANIZER;CN="Quai ouest musiques":http://www.breizhbook.com/profile/Q
 uaiouestmusiques
ATTACH;FMTTYPE="image/jpeg":http://storage.ning.com/topology/rest/1.0/
 file/get/3198353991?profile=original
ATTENDEE;ROLE=REQ-PARTICIPANT;PARTSTAT=ACCEPTED;RSVP=TRUE;CN="Quai oue
 st musiques":http://www.breizhbook.com/profile/Quaiouestmusiques
END:VEVENT
END:VCALENDAR
