BEGIN:VCALENDAR
PRODID:NingEventWidget-v1
VERSION:2.0
METHOD:PUBLISH
BEGIN:VTIMEZONE
TZID:Europe/Paris
X-LIC-LOCATION:Europe/Paris
BEGIN:DAYLIGHT
TZOFFSETFROM:+0100
TZOFFSETTO:+0200
TZNAME:CEST
DTSTART:19700329T020000
RRULE:FREQ=YEARLY;BYMONTH=3;BYDAY=-1SU
END:DAYLIGHT
BEGIN:STANDARD
TZOFFSETFROM:+0200
TZOFFSETTO:+0100
TZNAME:CET
DTSTART:19701025T030000
RRULE:FREQ=YEARLY;BYMONTH=10;BYDAY=-1SU
END:STANDARD
END:VTIMEZONE
BEGIN:VEVENT
UID:6339722:Event:115671
DTSTAMP:20260423T164618Z
SUMMARY:13ème Festival du Bout du Monde
DESCRIPTION:\nVENDREDI 3 AOÛT 2012Pink Martini >> USA Flavia Coelho >
 > Brésil Stephan Eicher Octet >> SuisseJupiter Okwess International >
 > RD Congo La Chiva Gantiva >> Belgique - Colombie Zebda >> France Pop
 a Chubby >> USA The Black Seeds >> Nouvelle-ZélandeOrchestre Poly-Ryt
 hmo >> Bénin SAMEDI 4 AOÛT 2012Obrint Pas >> Espagne The Waterboys >
 > Ecosse Youn Sun Nah >> Corée Charlie Winston >> GB – FranceJimmy 
 Cliff >> Jamaïque Fatoumata Diawara >> Mali Anthony Joseph & the Spas
 m Band >> Trinidad - GB Beat Assailant >> USA Emel Mathlouthi >> Tunis
 ieZita Swoon Group >> Belgique-Burkina Faso Aziz Sahmaoui & University
  of Gnawa >> Maroc + une autre formation invitée dévoilée prochaine
 ment…DIMANCHE 5 AOÛT 2012El Gusto >> Algérie Xavier Rudd >> Austra
 lie Asaf Avidan >> Israël Piers Faccini invite : Badje Makan Tounkara
  & Jasser Haj Youssef >> Italie-France-GB-Mali-TunisieAngélique Kidjo
  >> Bénin Salvatore Adamo >> Belgique - SicileJustin Adams et Juldeh 
 Camara >> GB – Gambie Yom & the Wonder Rabbis >> France Kreiz Breizh
  Akademi #3 >> Bretagne Jolly Boys >> JamaïqueLos de Abajo >> Mexique
 Asian Dub Foundation >> GB\n\nPour en savoir plus, rendez-vous sur htt
 p://www.breizhbook.com/events/13-me-festival-du-bout-du-monde
DTSTART;TZID=Europe/Paris:20120803T200000
DTEND;TZID=Europe/Paris:20120805T120000
CATEGORIES:festival
LOCATION:Prairie de Landaoudec
WEBSITE:http://www.festivalduboutdumonde.com
URL:http://www.festivalduboutdumonde.com
CONTACT:0298270032
ORGANIZER;CN="Quai ouest musiques":http://www.breizhbook.com/profile/Q
 uaiouestmusiques
ATTACH;FMTTYPE="image/jpeg":http://storage.ning.com/topology/rest/1.0/
 file/get/3198314204?profile=original
ATTENDEE;ROLE=REQ-PARTICIPANT;PARTSTAT=ACCEPTED;RSVP=TRUE;CN="Quai oue
 st musiques":http://www.breizhbook.com/profile/Quaiouestmusiques
END:VEVENT
END:VCALENDAR
