BEGIN:VCALENDAR
PRODID:NingEventWidget-v1
VERSION:2.0
METHOD:PUBLISH
BEGIN:VTIMEZONE
TZID:Europe/Paris
X-LIC-LOCATION:Europe/Paris
BEGIN:DAYLIGHT
TZOFFSETFROM:+0100
TZOFFSETTO:+0200
TZNAME:CEST
DTSTART:19700329T020000
RRULE:FREQ=YEARLY;BYMONTH=3;BYDAY=-1SU
END:DAYLIGHT
BEGIN:STANDARD
TZOFFSETFROM:+0200
TZOFFSETTO:+0100
TZNAME:CET
DTSTART:19701025T030000
RRULE:FREQ=YEARLY;BYMONTH=10;BYDAY=-1SU
END:STANDARD
END:VTIMEZONE
BEGIN:VEVENT
UID:6339722:Event:122169
DTSTAMP:20260423T181503Z
SUMMARY:110 ans fete du phare
DESCRIPTION:110 ans ca se fête... préparez vous c'est fin juillet !\
 nLe phare de l'île Vierge, situé au large de Plouguerneau, est un de
 s plus haut soit 82,50 mètres. C'est le plus haut d'Europe et le phar
 e en pierres le plus haut du monde\nAvec Soldat Louis !\n\nPour en sav
 oir plus, rendez-vous sur http://www.breizhbook.com/events/110-ans-fet
 e-du-phare
DTSTART;TZID=Europe/Paris:20120728T000000
DTEND;TZID=Europe/Paris:20120729T235900
CATEGORIES:fête
LOCATION:Plouguerneau
WEBSITE:http://blogarvro.blogspot.fr/2012/06/110-ans-ca-se-fete.html
URL:http://blogarvro.blogspot.fr/2012/06/110-ans-ca-se-fete.html
CONTACT:
ORGANIZER:
ATTACH;FMTTYPE="image/jpeg":http://storage.ning.com/topology/rest/1.0/
 file/get/3198319145?profile=original
ATTENDEE;ROLE=REQ-PARTICIPANT;PARTSTAT=ACCEPTED;RSVP=TRUE;CN=Billigrad
 io:http://www.breizhbook.com/profile/Billigradio
END:VEVENT
END:VCALENDAR
