BEGIN:VCALENDAR
PRODID:NingEventWidget-v1
VERSION:2.0
METHOD:PUBLISH
BEGIN:VTIMEZONE
TZID:Europe/Paris
X-LIC-LOCATION:Europe/Paris
BEGIN:DAYLIGHT
TZOFFSETFROM:+0100
TZOFFSETTO:+0200
TZNAME:CEST
DTSTART:19700329T020000
RRULE:FREQ=YEARLY;BYMONTH=3;BYDAY=-1SU
END:DAYLIGHT
BEGIN:STANDARD
TZOFFSETFROM:+0200
TZOFFSETTO:+0100
TZNAME:CET
DTSTART:19701025T030000
RRULE:FREQ=YEARLY;BYMONTH=10;BYDAY=-1SU
END:STANDARD
END:VTIMEZONE
BEGIN:VEVENT
UID:6339722:Event:128088
DTSTAMP:20260423T182158Z
SUMMARY:1 er meeting tuning diabolik tuning club
DESCRIPTION:RASSEMBLEMENT VEHICULE PERSONNALISE\n\nPour en savoir plus
 , rendez-vous sur http://www.breizhbook.com/events/1-er-meeting-tuning
 -diabolik-tuning-club-1
DTSTART;TZID=Europe/Paris:20120728T180000
DTEND;TZID=Europe/Paris:20120729T190000
CATEGORIES:meeting, tuning
LOCATION:PONT MELVEZ
WEBSITE:
URL:
CONTACT:
ORGANIZER;CN="pierre david":http://www.breizhbook.com/profile/pierreda
 vid
ATTACH;FMTTYPE="image/jpeg":http://storage.ning.com/topology/rest/1.0/
 file/get/3198321397?profile=original
ATTENDEE;ROLE=REQ-PARTICIPANT;PARTSTAT=ACCEPTED;RSVP=TRUE;CN="pierre d
 avid":http://www.breizhbook.com/profile/pierredavid
END:VEVENT
END:VCALENDAR
